BEGIN:VCALENDAR
VERSION:2.0
PRODID:-//Luberon &amp; Sorgues Entreprendre - ECPv6.15.20//NONSGML v1.0//EN
CALSCALE:GREGORIAN
METHOD:PUBLISH
X-ORIGINAL-URL:https://luberonetsorguesentreprendre.fr
X-WR-CALDESC:Évènements pour Luberon &amp; Sorgues Entreprendre
REFRESH-INTERVAL;VALUE=DURATION:PT1H
X-Robots-Tag:noindex
X-PUBLISHED-TTL:PT1H
BEGIN:VTIMEZONE
TZID:Europe/Paris
BEGIN:DAYLIGHT
TZOFFSETFROM:+0100
TZOFFSETTO:+0200
TZNAME:CEST
DTSTART:20210328T010000
END:DAYLIGHT
BEGIN:STANDARD
TZOFFSETFROM:+0200
TZOFFSETTO:+0100
TZNAME:CET
DTSTART:20211031T010000
END:STANDARD
BEGIN:DAYLIGHT
TZOFFSETFROM:+0100
TZOFFSETTO:+0200
TZNAME:CEST
DTSTART:20220327T010000
END:DAYLIGHT
BEGIN:STANDARD
TZOFFSETFROM:+0200
TZOFFSETTO:+0100
TZNAME:CET
DTSTART:20221030T010000
END:STANDARD
BEGIN:DAYLIGHT
TZOFFSETFROM:+0100
TZOFFSETTO:+0200
TZNAME:CEST
DTSTART:20230326T010000
END:DAYLIGHT
BEGIN:STANDARD
TZOFFSETFROM:+0200
TZOFFSETTO:+0100
TZNAME:CET
DTSTART:20231029T010000
END:STANDARD
END:VTIMEZONE
BEGIN:VEVENT
DTSTART;TZID=Europe/Paris:20220614T183000
DTEND;TZID=Europe/Paris:20220614T223000
DTSTAMP:20260424T052029
CREATED:20220516T121353Z
LAST-MODIFIED:20220530T121308Z
UID:4587-1655231400-1655245800@luberonetsorguesentreprendre.fr
SUMMARY:#SaveTheDate : Assemblée Générale Ordinaire
DESCRIPTION:14 juin 2022 | L’AGO se déroulera dans la salle Jean Garcin au dernier étage du Château (parking sur place) \nInscription en ligne et gratuite sur : https://www.billetweb.fr/assemblee-generale-ordinaire-luberon-sorgues-entreprendre \nAu menu :\n– 18h30 : Accueil\n– 18h50 : Focus sur les adhérents\n– 19h10 : Bilan des actions 2021\n– 19h40 : Luberon & Sorgues Entreprendre 2022 en action !\n– 20h10 : Renouvellement partiel des administrateurs\n– 20h20 : Conclusion des échanges par les élus\n– 20H30 : Cocktail dînatoire sur le parvis du Château\n  \n 
URL:https://luberonetsorguesentreprendre.fr/event/savethedate-assemblee-generale-ordinaire/
LOCATION:Châteauneuf de Gadagne\, 1462 Av. Voltaire Garcin\, Châteuneuf de Gadagne\, 84470
CATEGORIES:Afterwork,Assemblé Générale
ATTACH;FMTTYPE=image/jpeg:https://luberonetsorguesentreprendre.fr/wp-content/uploads/2022/05/4766242.jpg
ORGANIZER;CN="Luberon & Sorgues Entreprendre":MAILTO:info@luberonetsorguesentreprendre.fr
END:VEVENT
END:VCALENDAR