BEGIN:VCALENDAR
VERSION:2.0
PRODID:-//Luberon &amp; Sorgues Entreprendre - ECPv6.15.20//NONSGML v1.0//EN
CALSCALE:GREGORIAN
METHOD:PUBLISH
X-ORIGINAL-URL:https://luberonetsorguesentreprendre.fr
X-WR-CALDESC:Évènements pour Luberon &amp; Sorgues Entreprendre
REFRESH-INTERVAL;VALUE=DURATION:PT1H
X-Robots-Tag:noindex
X-PUBLISHED-TTL:PT1H
BEGIN:VTIMEZONE
TZID:Europe/Paris
BEGIN:DAYLIGHT
TZOFFSETFROM:+0100
TZOFFSETTO:+0200
TZNAME:CEST
DTSTART:20210328T010000
END:DAYLIGHT
BEGIN:STANDARD
TZOFFSETFROM:+0200
TZOFFSETTO:+0100
TZNAME:CET
DTSTART:20211031T010000
END:STANDARD
BEGIN:DAYLIGHT
TZOFFSETFROM:+0100
TZOFFSETTO:+0200
TZNAME:CEST
DTSTART:20220327T010000
END:DAYLIGHT
BEGIN:STANDARD
TZOFFSETFROM:+0200
TZOFFSETTO:+0100
TZNAME:CET
DTSTART:20221030T010000
END:STANDARD
BEGIN:DAYLIGHT
TZOFFSETFROM:+0100
TZOFFSETTO:+0200
TZNAME:CEST
DTSTART:20230326T010000
END:DAYLIGHT
BEGIN:STANDARD
TZOFFSETFROM:+0200
TZOFFSETTO:+0100
TZNAME:CET
DTSTART:20231029T010000
END:STANDARD
END:VTIMEZONE
BEGIN:VEVENT
DTSTART;TZID=Europe/Paris:20221006T073000
DTEND;TZID=Europe/Paris:20221006T090000
DTSTAMP:20260424T001726
CREATED:20220927T130855Z
LAST-MODIFIED:20220927T131229Z
UID:4829-1665041400-1665046800@luberonetsorguesentreprendre.fr
SUMMARY:#SaveTheDate : Matinale de la Com'
DESCRIPTION:Matinale de la Com’\nRéseaux sociaux : lesquels choisir pour trouver des clients ?\n\nIntervention de Nathalie Richard Open Biz & Echanges\nLes professionnels du Groupe Com’ vous informent \nJeudi 6 octobre | 7h30-9h\nDomaine des Peyre 84400 Robion \nChaque membre Luberon & Sorgues Entreprendre inscrit peut inviter 1 personne en + \nInscription
URL:https://luberonetsorguesentreprendre.fr/event/savethedate-matinale-de-la-com-2/
LOCATION:Domaine des Peyre\, ROBION\, 84400\, France
CATEGORIES:Rencontre professionnelle
ATTACH;FMTTYPE=image/jpeg:https://luberonetsorguesentreprendre.fr/wp-content/uploads/2022/09/Matinale-Com-6-octobre.jpg
ORGANIZER;CN="Luberon & Sorgues Entreprendre":MAILTO:info@luberonetsorguesentreprendre.fr
END:VEVENT
END:VCALENDAR