BEGIN:VCALENDAR
VERSION:2.0
PRODID:-//Luberon &amp; Sorgues Entreprendre - ECPv6.15.20//NONSGML v1.0//EN
CALSCALE:GREGORIAN
METHOD:PUBLISH
X-WR-CALNAME:Luberon &amp; Sorgues Entreprendre
X-ORIGINAL-URL:https://luberonetsorguesentreprendre.fr
X-WR-CALDESC:Évènements pour Luberon &amp; Sorgues Entreprendre
REFRESH-INTERVAL;VALUE=DURATION:PT1H
X-Robots-Tag:noindex
X-PUBLISHED-TTL:PT1H
BEGIN:VTIMEZONE
TZID:Europe/Paris
BEGIN:DAYLIGHT
TZOFFSETFROM:+0100
TZOFFSETTO:+0200
TZNAME:CEST
DTSTART:20210328T010000
END:DAYLIGHT
BEGIN:STANDARD
TZOFFSETFROM:+0200
TZOFFSETTO:+0100
TZNAME:CET
DTSTART:20211031T010000
END:STANDARD
BEGIN:DAYLIGHT
TZOFFSETFROM:+0100
TZOFFSETTO:+0200
TZNAME:CEST
DTSTART:20220327T010000
END:DAYLIGHT
BEGIN:STANDARD
TZOFFSETFROM:+0200
TZOFFSETTO:+0100
TZNAME:CET
DTSTART:20221030T010000
END:STANDARD
BEGIN:DAYLIGHT
TZOFFSETFROM:+0100
TZOFFSETTO:+0200
TZNAME:CEST
DTSTART:20230326T010000
END:DAYLIGHT
BEGIN:STANDARD
TZOFFSETFROM:+0200
TZOFFSETTO:+0100
TZNAME:CET
DTSTART:20231029T010000
END:STANDARD
END:VTIMEZONE
BEGIN:VEVENT
DTSTART;TZID=Europe/Paris:20221129T073000
DTEND;TZID=Europe/Paris:20221129T090000
DTSTAMP:20260423T214136
CREATED:20221122T101258Z
LAST-MODIFIED:20221122T101258Z
UID:4919-1669707000-1669712400@luberonetsorguesentreprendre.fr
SUMMARY:#SaveTheDate : Matinale de la Com'
DESCRIPTION:Matinale de la Com’\nUne solution à la grande démission : La Marque Employeur\n\nIntervention de Céline Petit Imaginup | Pierre Granchamps Biglove et la Société SERPE\nLes professionnels du Groupe Com’ vous informent \nMardi 29 novembre | 7h30-9h\nDomaine des Peyre 84400 Robion \nInscription \nChaque membre Luberon & Sorgues Entreprendre inscrit peut inviter 1 personne en + \n 
URL:https://luberonetsorguesentreprendre.fr/event/savethedate-matinale-de-la-com/
LOCATION:Domaine des Peyre\, ROBION\, 84400\, France
CATEGORIES:Rencontre professionnelle
ATTACH;FMTTYPE=image/jpeg:https://luberonetsorguesentreprendre.fr/wp-content/uploads/2022/11/314444693_412771754405162_6898924923157251584_n.jpg
ORGANIZER;CN="Luberon & Sorgues Entreprendre":MAILTO:info@luberonetsorguesentreprendre.fr
END:VEVENT
END:VCALENDAR