BEGIN:VCALENDAR
VERSION:2.0
PRODID:-//Luberon &amp; Sorgues Entreprendre - ECPv6.15.20//NONSGML v1.0//EN
CALSCALE:GREGORIAN
METHOD:PUBLISH
X-ORIGINAL-URL:https://luberonetsorguesentreprendre.fr
X-WR-CALDESC:Évènements pour Luberon &amp; Sorgues Entreprendre
REFRESH-INTERVAL;VALUE=DURATION:PT1H
X-Robots-Tag:noindex
X-PUBLISHED-TTL:PT1H
BEGIN:VTIMEZONE
TZID:Europe/Paris
BEGIN:DAYLIGHT
TZOFFSETFROM:+0100
TZOFFSETTO:+0200
TZNAME:CEST
DTSTART:20210328T010000
END:DAYLIGHT
BEGIN:STANDARD
TZOFFSETFROM:+0200
TZOFFSETTO:+0100
TZNAME:CET
DTSTART:20211031T010000
END:STANDARD
BEGIN:DAYLIGHT
TZOFFSETFROM:+0100
TZOFFSETTO:+0200
TZNAME:CEST
DTSTART:20220327T010000
END:DAYLIGHT
BEGIN:STANDARD
TZOFFSETFROM:+0200
TZOFFSETTO:+0100
TZNAME:CET
DTSTART:20221030T010000
END:STANDARD
BEGIN:DAYLIGHT
TZOFFSETFROM:+0100
TZOFFSETTO:+0200
TZNAME:CEST
DTSTART:20230326T010000
END:DAYLIGHT
BEGIN:STANDARD
TZOFFSETFROM:+0200
TZOFFSETTO:+0100
TZNAME:CET
DTSTART:20231029T010000
END:STANDARD
END:VTIMEZONE
BEGIN:VEVENT
DTSTART;TZID=Europe/Paris:20221208T173000
DTEND;TZID=Europe/Paris:20221208T193000
DTSTAMP:20260423T214540
CREATED:20221122T102722Z
LAST-MODIFIED:20221122T102722Z
UID:4926-1670520600-1670527800@luberonetsorguesentreprendre.fr
SUMMARY:#SaveTheDate : Visite entreprise
DESCRIPTION: le Groupe Visite Entreprise vous propose de découvrir :  \nJeudi 8 décembre | 17h30-19h30\nFilaventure | Musée sensoriel Manufacture Brun de Vian-Tiran 84800 L’Isle sur la Sorgue  \nJean-Louis Brun\, représentant de la 8ème génération à la tête de cette entreprise familiale\, partagera sa passion pour les plus belles laines du monde et pour le métier de manufacturier. Une aile du célèbre bâtiment est désormais dédiée à un parcours interactif : le marché aux laines\, le cinéma de fils Mohair\, le labyrinthe de la fabrication et le laboratoire de l’innovation et du design. Immersion garantie ! La visite sera suivi d’un petit cocktail au sein de la boutique |  Inscription\nA cette occasion une remise spéciale adhérent de 20% vous sera proposée en boutique.
URL:https://luberonetsorguesentreprendre.fr/event/savethedate-visite-entreprise-3/
LOCATION:L’Isle sur la Sorgue\, L'Isle sur la Sorgue\, 84800\, France
CATEGORIES:Rencontre professionnelle
ATTACH;FMTTYPE=image/jpeg:https://luberonetsorguesentreprendre.fr/wp-content/uploads/2022/11/316089148_418027843879553_4521561779145891694_n.jpg
ORGANIZER;CN="Luberon & Sorgues Entreprendre":MAILTO:info@luberonetsorguesentreprendre.fr
END:VEVENT
END:VCALENDAR