BEGIN:VCALENDAR
VERSION:2.0
PRODID:-//Luberon &amp; Sorgues Entreprendre - ECPv6.15.20//NONSGML v1.0//EN
CALSCALE:GREGORIAN
METHOD:PUBLISH
X-WR-CALNAME:Luberon &amp; Sorgues Entreprendre
X-ORIGINAL-URL:https://luberonetsorguesentreprendre.fr
X-WR-CALDESC:Évènements pour Luberon &amp; Sorgues Entreprendre
REFRESH-INTERVAL;VALUE=DURATION:PT1H
X-Robots-Tag:noindex
X-PUBLISHED-TTL:PT1H
BEGIN:VTIMEZONE
TZID:Europe/Paris
BEGIN:DAYLIGHT
TZOFFSETFROM:+0100
TZOFFSETTO:+0200
TZNAME:CEST
DTSTART:20220327T010000
END:DAYLIGHT
BEGIN:STANDARD
TZOFFSETFROM:+0200
TZOFFSETTO:+0100
TZNAME:CET
DTSTART:20221030T010000
END:STANDARD
BEGIN:DAYLIGHT
TZOFFSETFROM:+0100
TZOFFSETTO:+0200
TZNAME:CEST
DTSTART:20230326T010000
END:DAYLIGHT
BEGIN:STANDARD
TZOFFSETFROM:+0200
TZOFFSETTO:+0100
TZNAME:CET
DTSTART:20231029T010000
END:STANDARD
BEGIN:DAYLIGHT
TZOFFSETFROM:+0100
TZOFFSETTO:+0200
TZNAME:CEST
DTSTART:20240331T010000
END:DAYLIGHT
BEGIN:STANDARD
TZOFFSETFROM:+0200
TZOFFSETTO:+0100
TZNAME:CET
DTSTART:20241027T010000
END:STANDARD
END:VTIMEZONE
BEGIN:VEVENT
DTSTART;TZID=Europe/Paris:20230309T133000
DTEND;TZID=Europe/Paris:20230309T170000
DTSTAMP:20260423T173735
CREATED:20230227T122329Z
LAST-MODIFIED:20230227T122329Z
UID:5128-1678368600-1678381200@luberonetsorguesentreprendre.fr
SUMMARY:#SaveTheDate : Rencontres de l'Emploi et du Recrutement 2-16/03
DESCRIPTION:
URL:https://luberonetsorguesentreprendre.fr/event/savethedate-rencontres-emploi-recrutement-2-16-03/
LOCATION:L’Isle sur la Sorgue\, L'Isle sur la Sorgue\, 84800\, France
CATEGORIES:Rencontre professionnelle
ATTACH;FMTTYPE=image/png:https://luberonetsorguesentreprendre.fr/wp-content/uploads/2023/02/11697-rencontres-emploi-recrutement.png
ORGANIZER;CN="Luberon & Sorgues Entreprendre":MAILTO:info@luberonetsorguesentreprendre.fr
END:VEVENT
END:VCALENDAR