BEGIN:VCALENDAR
VERSION:2.0
PRODID:-//Luberon &amp; Sorgues Entreprendre - ECPv6.15.20//NONSGML v1.0//EN
CALSCALE:GREGORIAN
METHOD:PUBLISH
X-ORIGINAL-URL:https://luberonetsorguesentreprendre.fr
X-WR-CALDESC:Évènements pour Luberon &amp; Sorgues Entreprendre
REFRESH-INTERVAL;VALUE=DURATION:PT1H
X-Robots-Tag:noindex
X-PUBLISHED-TTL:PT1H
BEGIN:VTIMEZONE
TZID:Europe/Paris
BEGIN:DAYLIGHT
TZOFFSETFROM:+0100
TZOFFSETTO:+0200
TZNAME:CEST
DTSTART:20220327T010000
END:DAYLIGHT
BEGIN:STANDARD
TZOFFSETFROM:+0200
TZOFFSETTO:+0100
TZNAME:CET
DTSTART:20221030T010000
END:STANDARD
BEGIN:DAYLIGHT
TZOFFSETFROM:+0100
TZOFFSETTO:+0200
TZNAME:CEST
DTSTART:20230326T010000
END:DAYLIGHT
BEGIN:STANDARD
TZOFFSETFROM:+0200
TZOFFSETTO:+0100
TZNAME:CET
DTSTART:20231029T010000
END:STANDARD
BEGIN:DAYLIGHT
TZOFFSETFROM:+0100
TZOFFSETTO:+0200
TZNAME:CEST
DTSTART:20240331T010000
END:DAYLIGHT
BEGIN:STANDARD
TZOFFSETFROM:+0200
TZOFFSETTO:+0100
TZNAME:CET
DTSTART:20241027T010000
END:STANDARD
END:VTIMEZONE
BEGIN:VEVENT
DTSTART;TZID=Europe/Paris:20230314T083000
DTEND;TZID=Europe/Paris:20230314T110000
DTSTAMP:20260423T174100
CREATED:20230213T155625Z
LAST-MODIFIED:20230213T160136Z
UID:5101-1678782600-1678791600@luberonetsorguesentreprendre.fr
SUMMARY:#SaveTheDate : Groupe TPE 14.03
DESCRIPTION:Chers adhérents\, le Groupe TPE vous propose un nouvel atelier « MacroEconomie Avez-vous le bon cap pour votre entreprise ? »\n\nLa Macroéconomie | Entreprises\, avez-vous le bon cap pour 2023 ? Atelier animé par Catherine Chiabodo Thérapeute économique. L’atelier sera suivi d’une visite du Moulin de l’Auro notre lieu d’accueil et d’une présentation de ses activités durant 30mn. Dans un environnement économique imprévisible\, les dirigeants doivent revisiter le macroenvironnement de leur entreprise. L’analyse PESTEL permet de prendre de la hauteur dans la gestion quotidienne et d’anticiper les tendances à venir. Identifiez au mieux les risques qui vont impacter la profitabilité de votre entreprise et prenez les décisions les plus adaptées.\n\nRendez-vous mardi 14  mars de 8h30 à 11h au Moulin de l’Auro/L’Arche 930 chemin de la muscadelle 84800 L’Isle sur la Sorgue\nINSCRIPTION\n\n \n 
URL:https://luberonetsorguesentreprendre.fr/event/savethedate-groupe-tpe-14-03/
LOCATION:L’Isle sur la Sorgue\, L'Isle sur la Sorgue\, 84800\, France
CATEGORIES:Rencontre professionnelle
ATTACH;FMTTYPE=image/jpeg:https://luberonetsorguesentreprendre.fr/wp-content/uploads/2023/02/Affiche-Session-information-TPE-La-Macroeconomie-scaled.jpg
ORGANIZER;CN="Luberon & Sorgues Entreprendre":MAILTO:info@luberonetsorguesentreprendre.fr
END:VEVENT
END:VCALENDAR