BEGIN:VCALENDAR
VERSION:2.0
PRODID:-//Luberon &amp; Sorgues Entreprendre - ECPv6.15.20//NONSGML v1.0//EN
CALSCALE:GREGORIAN
METHOD:PUBLISH
X-ORIGINAL-URL:https://luberonetsorguesentreprendre.fr
X-WR-CALDESC:Évènements pour Luberon &amp; Sorgues Entreprendre
REFRESH-INTERVAL;VALUE=DURATION:PT1H
X-Robots-Tag:noindex
X-PUBLISHED-TTL:PT1H
BEGIN:VTIMEZONE
TZID:Europe/Paris
BEGIN:DAYLIGHT
TZOFFSETFROM:+0100
TZOFFSETTO:+0200
TZNAME:CEST
DTSTART:20220327T010000
END:DAYLIGHT
BEGIN:STANDARD
TZOFFSETFROM:+0200
TZOFFSETTO:+0100
TZNAME:CET
DTSTART:20221030T010000
END:STANDARD
BEGIN:DAYLIGHT
TZOFFSETFROM:+0100
TZOFFSETTO:+0200
TZNAME:CEST
DTSTART:20230326T010000
END:DAYLIGHT
BEGIN:STANDARD
TZOFFSETFROM:+0200
TZOFFSETTO:+0100
TZNAME:CET
DTSTART:20231029T010000
END:STANDARD
BEGIN:DAYLIGHT
TZOFFSETFROM:+0100
TZOFFSETTO:+0200
TZNAME:CEST
DTSTART:20240331T010000
END:DAYLIGHT
BEGIN:STANDARD
TZOFFSETFROM:+0200
TZOFFSETTO:+0100
TZNAME:CET
DTSTART:20241027T010000
END:STANDARD
END:VTIMEZONE
BEGIN:VEVENT
DTSTART;TZID=Europe/Paris:20230323T083000
DTEND;TZID=Europe/Paris:20230323T103000
DTSTAMP:20260423T174017
CREATED:20230227T123220Z
LAST-MODIFIED:20230227T123349Z
UID:5131-1679560200-1679567400@luberonetsorguesentreprendre.fr
SUMMARY:#SaveTheDate : Visite Entreprise 23.03
DESCRIPTION:Chers adhérents\, le Groupe Visite Entreprise vous invite à découvrir : \nBijouseat | Surcyclum                                                           \n14 ZA Les Théologiens                                                  \n84800 L’Isle-sur-la-Sorgue \nJeudi 23 mars de 8h30 à 10h30 \nEntrez dans l’univers de Valérie Martin\, tapissière d’art en ameublement intérieur mais aussi créatrice inspirée par l’art nouveau et bien plus ! Son atelier est un lieu d’alchimie entre le monde industriel\, la pratique du surcyclage – upcycling et le raffinement du monde féminin. « Le style est singulier\, espiègle\, il dévoile des créations de mobilier de maison aux allures racées. » \n\n\n\n\n 
URL:https://luberonetsorguesentreprendre.fr/event/savethedate-visite-entreprise-23-03/
LOCATION:L’Isle sur la Sorgue\, L'Isle sur la Sorgue\, 84800\, France
CATEGORIES:Rencontre professionnelle
ATTACH;FMTTYPE=image/jpeg:https://luberonetsorguesentreprendre.fr/wp-content/uploads/2023/02/20230223_120201-rotated-e1677501210563.jpg
ORGANIZER;CN="Luberon & Sorgues Entreprendre":MAILTO:info@luberonetsorguesentreprendre.fr
END:VEVENT
END:VCALENDAR