BEGIN:VCALENDAR
VERSION:2.0
PRODID:-//Luberon &amp; Sorgues Entreprendre - ECPv6.15.20//NONSGML v1.0//EN
CALSCALE:GREGORIAN
METHOD:PUBLISH
X-ORIGINAL-URL:https://luberonetsorguesentreprendre.fr
X-WR-CALDESC:Évènements pour Luberon &amp; Sorgues Entreprendre
REFRESH-INTERVAL;VALUE=DURATION:PT1H
X-Robots-Tag:noindex
X-PUBLISHED-TTL:PT1H
BEGIN:VTIMEZONE
TZID:Europe/Paris
BEGIN:DAYLIGHT
TZOFFSETFROM:+0100
TZOFFSETTO:+0200
TZNAME:CEST
DTSTART:20220327T010000
END:DAYLIGHT
BEGIN:STANDARD
TZOFFSETFROM:+0200
TZOFFSETTO:+0100
TZNAME:CET
DTSTART:20221030T010000
END:STANDARD
BEGIN:DAYLIGHT
TZOFFSETFROM:+0100
TZOFFSETTO:+0200
TZNAME:CEST
DTSTART:20230326T010000
END:DAYLIGHT
BEGIN:STANDARD
TZOFFSETFROM:+0200
TZOFFSETTO:+0100
TZNAME:CET
DTSTART:20231029T010000
END:STANDARD
BEGIN:DAYLIGHT
TZOFFSETFROM:+0100
TZOFFSETTO:+0200
TZNAME:CEST
DTSTART:20240331T010000
END:DAYLIGHT
BEGIN:STANDARD
TZOFFSETFROM:+0200
TZOFFSETTO:+0100
TZNAME:CET
DTSTART:20241027T010000
END:STANDARD
END:VTIMEZONE
BEGIN:VEVENT
DTSTART;TZID=Europe/Paris:20230406T190000
DTEND;TZID=Europe/Paris:20230406T223000
DTSTAMP:20260423T161428
CREATED:20230306T125118Z
LAST-MODIFIED:20230308T081028Z
UID:5143-1680807600-1680820200@luberonetsorguesentreprendre.fr
SUMMARY:#SaveTheDate : AG 06.04
DESCRIPTION:Le Conseil d’Administration et sa Présidente Hélène Félix ont le plaisir de vous convier à l’Assemblée Générale 2022 de l’Association Luberon & Sorgues Entreprendre qui se tiendra : \nJeudi 6 avril 2023 à 19h  \nSalle des Fêtes Moulin Saint Pierre \n 84300 Les Taillades \nAu Programme : \nFocus Adhérents \nAssemblée Statutaire 19h30 \n2023 en actions ! \nCocktail à partir de 21h \nInscription via :                                                                                                \nwww.billetweb.fr/assemblee-generale-ordinaire-luberon-sorgues-entreprendre1 \nOu merci de confirmer votre présence auprès de : \nCatherine Bézard info@luberonetsorguesentreprendre.fr  | 06 84 03 51 52 \nCécile Doumas communication@luberonetsorguesentreprendre.fr | 06 03 26 41 92 \n\n\n\n\n 
URL:https://luberonetsorguesentreprendre.fr/event/savethedate-ag-06-04/
LOCATION:Les Taillades
CATEGORIES:Rencontre professionnelle
ATTACH;FMTTYPE=image/png:https://luberonetsorguesentreprendre.fr/wp-content/uploads/2023/03/AGO.png
ORGANIZER;CN="Luberon & Sorgues Entreprendre":MAILTO:info@luberonetsorguesentreprendre.fr
END:VEVENT
END:VCALENDAR