BEGIN:VCALENDAR
VERSION:2.0
PRODID:-//Luberon &amp; Sorgues Entreprendre - ECPv6.15.20//NONSGML v1.0//EN
CALSCALE:GREGORIAN
METHOD:PUBLISH
X-WR-CALNAME:Luberon &amp; Sorgues Entreprendre
X-ORIGINAL-URL:https://luberonetsorguesentreprendre.fr
X-WR-CALDESC:Évènements pour Luberon &amp; Sorgues Entreprendre
REFRESH-INTERVAL;VALUE=DURATION:PT1H
X-Robots-Tag:noindex
X-PUBLISHED-TTL:PT1H
BEGIN:VTIMEZONE
TZID:Europe/Paris
BEGIN:DAYLIGHT
TZOFFSETFROM:+0100
TZOFFSETTO:+0200
TZNAME:CEST
DTSTART:20220327T010000
END:DAYLIGHT
BEGIN:STANDARD
TZOFFSETFROM:+0200
TZOFFSETTO:+0100
TZNAME:CET
DTSTART:20221030T010000
END:STANDARD
BEGIN:DAYLIGHT
TZOFFSETFROM:+0100
TZOFFSETTO:+0200
TZNAME:CEST
DTSTART:20230326T010000
END:DAYLIGHT
BEGIN:STANDARD
TZOFFSETFROM:+0200
TZOFFSETTO:+0100
TZNAME:CET
DTSTART:20231029T010000
END:STANDARD
BEGIN:DAYLIGHT
TZOFFSETFROM:+0100
TZOFFSETTO:+0200
TZNAME:CEST
DTSTART:20240331T010000
END:DAYLIGHT
BEGIN:STANDARD
TZOFFSETFROM:+0200
TZOFFSETTO:+0100
TZNAME:CET
DTSTART:20241027T010000
END:STANDARD
END:VTIMEZONE
BEGIN:VEVENT
DTSTART;TZID=Europe/Paris:20230606T183000
DTEND;TZID=Europe/Paris:20230606T230000
DTSTAMP:20260423T115201
CREATED:20230328T194548Z
LAST-MODIFIED:20230328T194548Z
UID:5203-1686076200-1686092400@luberonetsorguesentreprendre.fr
SUMMARY:#SaveTheDate : Parlons Cash 7ème Edition
DESCRIPTION:Thématique 2023 | #nouveauxrapportsautravail Je t’aime moi non plus ?!  \nTélétravail\, co-working\, mode projet… l’entreprise et son\nfonctionnement sont en pleine mutation. La Covid et l’expérience des confinements ont précipité\ndes évolutions émergentes et favorisé de nouvelles pratiques de management ainsi qu’une autre\nfaçon de concilier vie de famille et vie professionnelle. A ce constat s’ajoutent de nouvelles\naspirations portées par la jeune génération : une quête de sens\, la volonté d’épanouissement et\nde reconnaissance\, une manière différente de construire une carrière professionnelle : mobilité\,\nrapport à la hiérarchie etc… Face à ces modifications conjoncturelles ou structurelles\, quelles\nréponses et adaptations les employeurs proposent-ils aujourd’hui ? \nAu programme |\nConférence de Benoît Serre Vice-Président délégué de l’ANDRH et DRH de l’Oréal France\n&\nTémoignages de dirigeants d’entreprises\, de recruteurs et de jeunes sur des modèles de travail\nalternatifs et/ou en mutation. \nInscription : Billetweb \nAdhérents LSE n’oubliez pas de nous contacter avant de vous inscrire pour bénéficier du code réduction ! \n \n 
URL:https://luberonetsorguesentreprendre.fr/event/savethedate-parlons-cash-7eme-edition-2/
LOCATION:Robion\, ROBION\, 84440\, France
CATEGORIES:Afterwork,Parlons C@sh
ATTACH;FMTTYPE=image/jpeg:https://luberonetsorguesentreprendre.fr/wp-content/uploads/2023/03/336231771_598803115631717_5292709958211742189_n-e1688970040539.jpg
ORGANIZER;CN="Luberon & Sorgues Entreprendre":MAILTO:info@luberonetsorguesentreprendre.fr
END:VEVENT
END:VCALENDAR