BEGIN:VCALENDAR
VERSION:2.0
PRODID:-//Luberon &amp; Sorgues Entreprendre - ECPv6.15.20//NONSGML v1.0//EN
CALSCALE:GREGORIAN
METHOD:PUBLISH
X-WR-CALNAME:Luberon &amp; Sorgues Entreprendre
X-ORIGINAL-URL:https://luberonetsorguesentreprendre.fr
X-WR-CALDESC:Évènements pour Luberon &amp; Sorgues Entreprendre
REFRESH-INTERVAL;VALUE=DURATION:PT1H
X-Robots-Tag:noindex
X-PUBLISHED-TTL:PT1H
BEGIN:VTIMEZONE
TZID:Europe/Paris
BEGIN:DAYLIGHT
TZOFFSETFROM:+0100
TZOFFSETTO:+0200
TZNAME:CEST
DTSTART:20220327T010000
END:DAYLIGHT
BEGIN:STANDARD
TZOFFSETFROM:+0200
TZOFFSETTO:+0100
TZNAME:CET
DTSTART:20221030T010000
END:STANDARD
BEGIN:DAYLIGHT
TZOFFSETFROM:+0100
TZOFFSETTO:+0200
TZNAME:CEST
DTSTART:20230326T010000
END:DAYLIGHT
BEGIN:STANDARD
TZOFFSETFROM:+0200
TZOFFSETTO:+0100
TZNAME:CET
DTSTART:20231029T010000
END:STANDARD
BEGIN:DAYLIGHT
TZOFFSETFROM:+0100
TZOFFSETTO:+0200
TZNAME:CEST
DTSTART:20240331T010000
END:DAYLIGHT
BEGIN:STANDARD
TZOFFSETFROM:+0200
TZOFFSETTO:+0100
TZNAME:CET
DTSTART:20241027T010000
END:STANDARD
END:VTIMEZONE
BEGIN:VEVENT
DTSTART;TZID=Europe/Paris:20231114T180000
DTEND;TZID=Europe/Paris:20231114T200000
DTSTAMP:20260423T045940
CREATED:20231017T083125Z
LAST-MODIFIED:20231017T083336Z
UID:5465-1699984800-1699992000@luberonetsorguesentreprendre.fr
SUMMARY:#SaveTheDate : Changement Climatique Comment adapter mon entreprise? 14.11.23
DESCRIPTION:Rencontre : « changement climatique\, comment adapter mon entreprise ? Des solutions existent ! »  \nMardi 14 novembre 2023\, 18h00/ 20h00 \nA la Gare de Coustellet\, 105 quai des entreprises\, 84660 MAUBEC \nLe Parc naturel régional du Luberon et Luberon & Sorgues entreprendre\, avec l’aide de la Région Sud\, proposent une rencontre sur le changement climatique\, pour présenter des solutions adaptées aux entreprises du territoire.  \nPhilippe Rossello\, géographe et coordinateur du GREC SUD\, interviendra en début de soirée pour faire un point sur le changement climatique\, au niveau mondial et au niveau de notre territoire.  \nEnsuite des entreprises innovantes et engagées dans l’adaptation au changement climatique vous feront partager leur retour d’expérience. Un Architecte de l’atelier Ostraka nous fera un point sur la rénovation énergétique des bâtiments.  \nL’objectif : apporter  une meilleure connaissance de l’impact du changement climatique au niveau local\, donner des clés et des exemples concrets aux entreprises du territoire afin de mieux anticiper\, atténuer et s’adapter aux conséquences du changement climatique. \nCette rencontre sera clôturée par un cocktail. \nInscriptions : https://bit.ly/climat141123
URL:https://luberonetsorguesentreprendre.fr/event/savethedate-changement-climatique-comment-adapter-mon-entreprise-14-11-23/
CATEGORIES:Rencontre professionnelle
ATTACH;FMTTYPE=image/jpeg:https://luberonetsorguesentreprendre.fr/wp-content/uploads/2023/10/bandeau-soiree-entreprises.jpg
ORGANIZER;CN="Luberon & Sorgues Entreprendre":MAILTO:info@luberonetsorguesentreprendre.fr
END:VEVENT
END:VCALENDAR