BEGIN:VCALENDAR
VERSION:2.0
PRODID:-//Luberon &amp; Sorgues Entreprendre - ECPv6.15.20//NONSGML v1.0//EN
CALSCALE:GREGORIAN
METHOD:PUBLISH
X-WR-CALNAME:Luberon &amp; Sorgues Entreprendre
X-ORIGINAL-URL:https://luberonetsorguesentreprendre.fr
X-WR-CALDESC:Évènements pour Luberon &amp; Sorgues Entreprendre
REFRESH-INTERVAL;VALUE=DURATION:PT1H
X-Robots-Tag:noindex
X-PUBLISHED-TTL:PT1H
BEGIN:VTIMEZONE
TZID:Europe/Paris
BEGIN:DAYLIGHT
TZOFFSETFROM:+0100
TZOFFSETTO:+0200
TZNAME:CEST
DTSTART:20220327T010000
END:DAYLIGHT
BEGIN:STANDARD
TZOFFSETFROM:+0200
TZOFFSETTO:+0100
TZNAME:CET
DTSTART:20221030T010000
END:STANDARD
BEGIN:DAYLIGHT
TZOFFSETFROM:+0100
TZOFFSETTO:+0200
TZNAME:CEST
DTSTART:20230326T010000
END:DAYLIGHT
BEGIN:STANDARD
TZOFFSETFROM:+0200
TZOFFSETTO:+0100
TZNAME:CET
DTSTART:20231029T010000
END:STANDARD
BEGIN:DAYLIGHT
TZOFFSETFROM:+0100
TZOFFSETTO:+0200
TZNAME:CEST
DTSTART:20240331T010000
END:DAYLIGHT
BEGIN:STANDARD
TZOFFSETFROM:+0200
TZOFFSETTO:+0100
TZNAME:CET
DTSTART:20241027T010000
END:STANDARD
END:VTIMEZONE
BEGIN:VEVENT
DTSTART;TZID=Europe/Paris:20231116T083000
DTEND;TZID=Europe/Paris:20231116T110000
DTSTAMP:20260423T045633
CREATED:20231017T114622Z
LAST-MODIFIED:20231017T123211Z
UID:5468-1700123400-1700132400@luberonetsorguesentreprendre.fr
SUMMARY:#SaveTheDate : Groupe TPE Atelier Intelligence émotionnelle | 16.11.23
DESCRIPTION:« L’Intelligence Émotionnelle comme pilier du Leadership » \nIsabelle THIEFINE et Tiphaine DATIN\, coachs expérimentées et certifiées\, vous donnent les clés pour travailler votre Leadership 2.0 \nLe saviez-vous ? L’intelligence Émotionnelle\, 1ère compétence recherchée en recrutement chez nos leaders et managers. \n3 ateliers participatifs et complémentaires pour comprendre quelles sont les dimensions de l’Intelligence Émotionnelle qui constituent les 4 piliers du Leadership ainsi que les dimensions considérées comme des réducteurs de Leadership. \n1er Temps « Les deux premiers piliers fondamentaux du Leadership » \nJeudi 16 novembre  \nRDV chez STERNE   \nRue Jean Monnet | 84300 Cavaillon \nà partir de 8h30 jusqu’à 10h30 \nInscription : https://doodle.com/meeting/organize/id/dPY61zwe \nProchains rendez-vous : \n25 janvier : 2ème temps « Les deux seconds piliers fondamentaux du Leadership ». \n28 mars : 3ème « Les réducteurs de leadership ». \n  \n 
URL:https://luberonetsorguesentreprendre.fr/event/savethedate-groupe-tpe-atelier-intelligence-emotionnelle-16-11-23/
CATEGORIES:Rencontre professionnelle
ATTACH;FMTTYPE=image/png:https://luberonetsorguesentreprendre.fr/wp-content/uploads/2023/10/EI-Groupe-TPE-16-nov.png
ORGANIZER;CN="Luberon & Sorgues Entreprendre":MAILTO:info@luberonetsorguesentreprendre.fr
END:VEVENT
END:VCALENDAR