BEGIN:VCALENDAR
VERSION:2.0
PRODID:-//Luberon &amp; Sorgues Entreprendre - ECPv6.15.20//NONSGML v1.0//EN
CALSCALE:GREGORIAN
METHOD:PUBLISH
X-WR-CALNAME:Luberon &amp; Sorgues Entreprendre
X-ORIGINAL-URL:https://luberonetsorguesentreprendre.fr
X-WR-CALDESC:Évènements pour Luberon &amp; Sorgues Entreprendre
REFRESH-INTERVAL;VALUE=DURATION:PT1H
X-Robots-Tag:noindex
X-PUBLISHED-TTL:PT1H
BEGIN:VTIMEZONE
TZID:Europe/Paris
BEGIN:DAYLIGHT
TZOFFSETFROM:+0100
TZOFFSETTO:+0200
TZNAME:CEST
DTSTART:20220327T010000
END:DAYLIGHT
BEGIN:STANDARD
TZOFFSETFROM:+0200
TZOFFSETTO:+0100
TZNAME:CET
DTSTART:20221030T010000
END:STANDARD
BEGIN:DAYLIGHT
TZOFFSETFROM:+0100
TZOFFSETTO:+0200
TZNAME:CEST
DTSTART:20230326T010000
END:DAYLIGHT
BEGIN:STANDARD
TZOFFSETFROM:+0200
TZOFFSETTO:+0100
TZNAME:CET
DTSTART:20231029T010000
END:STANDARD
BEGIN:DAYLIGHT
TZOFFSETFROM:+0100
TZOFFSETTO:+0200
TZNAME:CEST
DTSTART:20240331T010000
END:DAYLIGHT
BEGIN:STANDARD
TZOFFSETFROM:+0200
TZOFFSETTO:+0100
TZNAME:CET
DTSTART:20241027T010000
END:STANDARD
END:VTIMEZONE
BEGIN:VEVENT
DTSTART;TZID=Europe/Paris:20231123T183000
DTEND;TZID=Europe/Paris:20231123T223000
DTSTAMP:20260423T045641
CREATED:20231002T071214Z
LAST-MODIFIED:20231002T152553Z
UID:5433-1700764200-1700778600@luberonetsorguesentreprendre.fr
SUMMARY:#SaveTheDate : 11èmes Rencontres conviviales & Trophées 23.11.23
DESCRIPTION:Luberon & Sorgues Entreprendre vous invite à sa grande Soirée Réseau :Les 11èmes Rencontres conviviales des Entreprises LSE \nJeudi 23 novembre 2023  \nDomaine de la citadelle \n601 Route de Cavaillon 84560 Ménerbes  \nde 18h30 à 22h30 \nInscription  \nLa soirée sera également l’occasion de remettre 4 trophées  à des entreprises engagées du territoire dans les catégories Audace | Engagement dans la vie locale | Jeunes pousses | Coup de cœur \n\n\n\n\n 
URL:https://luberonetsorguesentreprendre.fr/event/savethedate-11-rencontres-conviviales-trophees-23-11-23/
LOCATION:Domaine de la Citadelle\, Ménerbes
CATEGORIES:Afterwork
ATTACH;FMTTYPE=image/jpeg:https://luberonetsorguesentreprendre.fr/wp-content/uploads/2023/10/20230919_094216.jpg
ORGANIZER;CN="Luberon & Sorgues Entreprendre":MAILTO:info@luberonetsorguesentreprendre.fr
END:VEVENT
END:VCALENDAR