BEGIN:VCALENDAR
VERSION:2.0
PRODID:-//Luberon &amp; Sorgues Entreprendre - ECPv6.15.20//NONSGML v1.0//EN
CALSCALE:GREGORIAN
METHOD:PUBLISH
X-ORIGINAL-URL:https://luberonetsorguesentreprendre.fr
X-WR-CALDESC:Évènements pour Luberon &amp; Sorgues Entreprendre
REFRESH-INTERVAL;VALUE=DURATION:PT1H
X-Robots-Tag:noindex
X-PUBLISHED-TTL:PT1H
BEGIN:VTIMEZONE
TZID:Europe/Paris
BEGIN:DAYLIGHT
TZOFFSETFROM:+0100
TZOFFSETTO:+0200
TZNAME:CEST
DTSTART:20220327T010000
END:DAYLIGHT
BEGIN:STANDARD
TZOFFSETFROM:+0200
TZOFFSETTO:+0100
TZNAME:CET
DTSTART:20221030T010000
END:STANDARD
BEGIN:DAYLIGHT
TZOFFSETFROM:+0100
TZOFFSETTO:+0200
TZNAME:CEST
DTSTART:20230326T010000
END:DAYLIGHT
BEGIN:STANDARD
TZOFFSETFROM:+0200
TZOFFSETTO:+0100
TZNAME:CET
DTSTART:20231029T010000
END:STANDARD
BEGIN:DAYLIGHT
TZOFFSETFROM:+0100
TZOFFSETTO:+0200
TZNAME:CEST
DTSTART:20240331T010000
END:DAYLIGHT
BEGIN:STANDARD
TZOFFSETFROM:+0200
TZOFFSETTO:+0100
TZNAME:CET
DTSTART:20241027T010000
END:STANDARD
END:VTIMEZONE
BEGIN:VEVENT
DTSTART;TZID=Europe/Paris:20231207T180000
DTEND;TZID=Europe/Paris:20231207T193000
DTSTAMP:20260423T035238
CREATED:20231127T095215Z
LAST-MODIFIED:20231127T100039Z
UID:5502-1701972000-1701977400@luberonetsorguesentreprendre.fr
SUMMARY:#SaveTheDate : Groupe TPE l'Atelier des fêtes | 7.12.23
DESCRIPTION:En attendant Noël\, le Groupe TPE vous propose un atelier gourmand et convivial  autour du vin et du fromage \n chez Maison Moga   \n3 Cours Anatole France \n 84800 L’Isle-sur-la-Sorgue \nAccueil des participants à partir de 17h45 \nDébut de l’atelier à 18h Réalisation d’un nougat au fromage de chèvre | \nConseil accords vins et fro \nmages pour les fêtes avec Dégustation | \n19h30 fin de l’atelier \nTarif de l’atelier 24€ TTC \nInscription : https://www.billetweb.fr/atelier-de-noel-groupe-tpe1 \n 
URL:https://luberonetsorguesentreprendre.fr/event/savethedate-groupe-tpe-atelier-des-fetes-7-12-23/
CATEGORIES:Afterwork
ATTACH;FMTTYPE=image/jpeg:https://luberonetsorguesentreprendre.fr/wp-content/uploads/2023/11/Affiche-Session-information-TPE-.jpg
ORGANIZER;CN="Luberon & Sorgues Entreprendre":MAILTO:info@luberonetsorguesentreprendre.fr
END:VEVENT
END:VCALENDAR