BEGIN:VCALENDAR
VERSION:2.0
PRODID:-//Luberon &amp; Sorgues Entreprendre - ECPv6.15.20//NONSGML v1.0//EN
CALSCALE:GREGORIAN
METHOD:PUBLISH
X-WR-CALNAME:Luberon &amp; Sorgues Entreprendre
X-ORIGINAL-URL:https://luberonetsorguesentreprendre.fr
X-WR-CALDESC:Évènements pour Luberon &amp; Sorgues Entreprendre
REFRESH-INTERVAL;VALUE=DURATION:PT1H
X-Robots-Tag:noindex
X-PUBLISHED-TTL:PT1H
BEGIN:VTIMEZONE
TZID:Europe/Paris
BEGIN:DAYLIGHT
TZOFFSETFROM:+0100
TZOFFSETTO:+0200
TZNAME:CEST
DTSTART:20220327T010000
END:DAYLIGHT
BEGIN:STANDARD
TZOFFSETFROM:+0200
TZOFFSETTO:+0100
TZNAME:CET
DTSTART:20221030T010000
END:STANDARD
BEGIN:DAYLIGHT
TZOFFSETFROM:+0100
TZOFFSETTO:+0200
TZNAME:CEST
DTSTART:20230326T010000
END:DAYLIGHT
BEGIN:STANDARD
TZOFFSETFROM:+0200
TZOFFSETTO:+0100
TZNAME:CET
DTSTART:20231029T010000
END:STANDARD
BEGIN:DAYLIGHT
TZOFFSETFROM:+0100
TZOFFSETTO:+0200
TZNAME:CEST
DTSTART:20240331T010000
END:DAYLIGHT
BEGIN:STANDARD
TZOFFSETFROM:+0200
TZOFFSETTO:+0100
TZNAME:CET
DTSTART:20241027T010000
END:STANDARD
END:VTIMEZONE
BEGIN:VEVENT
DTSTART;TZID=Europe/Paris:20231215T074500
DTEND;TZID=Europe/Paris:20231215T090000
DTSTAMP:20260423T035452
CREATED:20231128T154204Z
LAST-MODIFIED:20231128T155003Z
UID:5517-1702626300-1702630800@luberonetsorguesentreprendre.fr
SUMMARY:#SaveTheDate : Café Bâtiment | 15.12.23
DESCRIPTION:A noter le prochain Café Bâtiment  \nVendredi 15 décembre de 7h45 à 9h \n à Coustellet | 7 Quai des entreprises – Maubec ( à côté de la Cave Di Vin). \nPetit rappel | les cafés Bâtiment ont été créés par des entreprises du bâtiment pour échanger leurs informations d’où son nom. Cette réunion est ouverte aux entreprises adhérentes issues de tous secteurs d’activité. Le but : échanger entre vous sur le baromètre économique des affaires et partager toute information ou problématique que vous souhaitez aborder. \nInscription \n 
URL:https://luberonetsorguesentreprendre.fr/event/savethedate-cafe-batiment-15-12-23/
CATEGORIES:Rencontre professionnelle
ATTACH;FMTTYPE=image/png:https://luberonetsorguesentreprendre.fr/wp-content/uploads/2023/11/6564aa730fd634f09d40cfd1.png
ORGANIZER;CN="Luberon & Sorgues Entreprendre":MAILTO:info@luberonetsorguesentreprendre.fr
END:VEVENT
END:VCALENDAR