BEGIN:VCALENDAR
VERSION:2.0
PRODID:-//Luberon &amp; Sorgues Entreprendre - ECPv6.15.20//NONSGML v1.0//EN
CALSCALE:GREGORIAN
METHOD:PUBLISH
X-ORIGINAL-URL:https://luberonetsorguesentreprendre.fr
X-WR-CALDESC:Évènements pour Luberon &amp; Sorgues Entreprendre
REFRESH-INTERVAL;VALUE=DURATION:PT1H
X-Robots-Tag:noindex
X-PUBLISHED-TTL:PT1H
BEGIN:VTIMEZONE
TZID:Europe/Paris
BEGIN:DAYLIGHT
TZOFFSETFROM:+0100
TZOFFSETTO:+0200
TZNAME:CEST
DTSTART:20230326T010000
END:DAYLIGHT
BEGIN:STANDARD
TZOFFSETFROM:+0200
TZOFFSETTO:+0100
TZNAME:CET
DTSTART:20231029T010000
END:STANDARD
BEGIN:DAYLIGHT
TZOFFSETFROM:+0100
TZOFFSETTO:+0200
TZNAME:CEST
DTSTART:20240331T010000
END:DAYLIGHT
BEGIN:STANDARD
TZOFFSETFROM:+0200
TZOFFSETTO:+0100
TZNAME:CET
DTSTART:20241027T010000
END:STANDARD
BEGIN:DAYLIGHT
TZOFFSETFROM:+0100
TZOFFSETTO:+0200
TZNAME:CEST
DTSTART:20250330T010000
END:DAYLIGHT
BEGIN:STANDARD
TZOFFSETFROM:+0200
TZOFFSETTO:+0100
TZNAME:CET
DTSTART:20251026T010000
END:STANDARD
END:VTIMEZONE
BEGIN:VEVENT
DTSTART;TZID=Europe/Paris:20240328T161500
DTEND;TZID=Europe/Paris:20240328T161500
DTSTAMP:20260422T235324
CREATED:20240304T072450Z
LAST-MODIFIED:20240304T072542Z
UID:5648-1711642500-1711642500@luberonetsorguesentreprendre.fr
SUMMARY:#SaveTheDate : Visite entreprise & Afterwork chez Calibrex | 28.03
DESCRIPTION:Visite d’entreprise & Afterwork | Jeudi 28 mars 2024\n\nA partir de 16h15 et jusqu’à 18h découvrez l’entreprise Calibrex \n 291 route d’Avignon 84300 Cavaillon | spécialisée dans la fabrication de calibreuses pour fruits et légumes frais et laissez vous guider par son dirigeant Michel Durand. Puis de 18h à 19h30 poursuivons ou démarrons les échanges pour ceux qui nous rejoindront autour d’un verre.\n\n« La société CALIBREX conçoit et fabrique depuis + de 60 ans\, des calibreuses pour fruits et légumes frais et fragiles. Elle intervient dans la France entière\, à l’étranger\, auprès de petites et moyennes exploitations ou structures de conditionnement. Michel Durand et son équipe vous proposent de découvrir des calibreuses au top de la technicité ainsi que le fonctionnement et les évolutions de cette société familiale ! »\n\nInscription : https://doodle.com/meeting/organize/id/bDwL2Vna\n  \n  \n 
URL:https://luberonetsorguesentreprendre.fr/event/savethedate-visite-entreprise-afterwork-calibrex-28-03-2/
LOCATION:Cavaillon\, Cavaillon\, 84300\, France
CATEGORIES:Afterwork,Rencontre professionnelle
ATTACH;FMTTYPE=image/png:https://luberonetsorguesentreprendre.fr/wp-content/uploads/2024/03/calibrex-.png
ORGANIZER;CN="Luberon & Sorgues Entreprendre":MAILTO:info@luberonetsorguesentreprendre.fr
END:VEVENT
END:VCALENDAR