BEGIN:VCALENDAR
VERSION:2.0
PRODID:-//Luberon &amp; Sorgues Entreprendre - ECPv6.15.20//NONSGML v1.0//EN
CALSCALE:GREGORIAN
METHOD:PUBLISH
X-WR-CALNAME:Luberon &amp; Sorgues Entreprendre
X-ORIGINAL-URL:https://luberonetsorguesentreprendre.fr
X-WR-CALDESC:Évènements pour Luberon &amp; Sorgues Entreprendre
REFRESH-INTERVAL;VALUE=DURATION:PT1H
X-Robots-Tag:noindex
X-PUBLISHED-TTL:PT1H
BEGIN:VTIMEZONE
TZID:Europe/Paris
BEGIN:DAYLIGHT
TZOFFSETFROM:+0100
TZOFFSETTO:+0200
TZNAME:CEST
DTSTART:20230326T010000
END:DAYLIGHT
BEGIN:STANDARD
TZOFFSETFROM:+0200
TZOFFSETTO:+0100
TZNAME:CET
DTSTART:20231029T010000
END:STANDARD
BEGIN:DAYLIGHT
TZOFFSETFROM:+0100
TZOFFSETTO:+0200
TZNAME:CEST
DTSTART:20240331T010000
END:DAYLIGHT
BEGIN:STANDARD
TZOFFSETFROM:+0200
TZOFFSETTO:+0100
TZNAME:CET
DTSTART:20241027T010000
END:STANDARD
BEGIN:DAYLIGHT
TZOFFSETFROM:+0100
TZOFFSETTO:+0200
TZNAME:CEST
DTSTART:20250330T010000
END:DAYLIGHT
BEGIN:STANDARD
TZOFFSETFROM:+0200
TZOFFSETTO:+0100
TZNAME:CET
DTSTART:20251026T010000
END:STANDARD
END:VTIMEZONE
BEGIN:VEVENT
DTSTART;TZID=Europe/Paris:20241008T183000
DTEND;TZID=Europe/Paris:20241008T223000
DTSTAMP:20260422T124349
CREATED:20240910T183313Z
LAST-MODIFIED:20240910T183422Z
UID:5921-1728412200-1728426600@luberonetsorguesentreprendre.fr
SUMMARY:#SaveTheDate : Les 12èmes Rencontres Conviviales de LSE | 08.10.24
DESCRIPTION:Mardi  8 octobre | de 18h30 à 22h30 | Château des 3 fontaines à Pernes-les-fontaines \n\n\n\nC’est avec plaisir que nous vous convions à notre soirée réseau : les 12èmes Rencontres Conviviales de LSE |  \nLe rendez-vous immanquable des chefs d’entreprise !  \nCet événement est l’occasion\, pour vous\, d’inviter jusqu’à 3 de vos contacts professionnels privilégiés : \nClients\, fournisseurs\, prospects\, collaborateurs…. et d’enrichir le réseau de chacun. \n  \n\n\n\n\n\n  Inscription : LIEN
URL:https://luberonetsorguesentreprendre.fr/event/savethedate-les-12emes-rencontres-conviviales-de-lse-08-10-24/
CATEGORIES:Afterwork,Rencontre professionnelle
ATTACH;FMTTYPE=image/png:https://luberonetsorguesentreprendre.fr/wp-content/uploads/bandeau.png
ORGANIZER;CN="LSE":MAILTO:communication@luberonetsorguesentreprendre.fr
END:VEVENT
END:VCALENDAR