BEGIN:VCALENDAR
VERSION:2.0
PRODID:-//Luberon &amp; Sorgues Entreprendre - ECPv6.15.20//NONSGML v1.0//EN
CALSCALE:GREGORIAN
METHOD:PUBLISH
X-ORIGINAL-URL:https://luberonetsorguesentreprendre.fr
X-WR-CALDESC:Évènements pour Luberon &amp; Sorgues Entreprendre
REFRESH-INTERVAL;VALUE=DURATION:PT1H
X-Robots-Tag:noindex
X-PUBLISHED-TTL:PT1H
BEGIN:VTIMEZONE
TZID:Europe/Paris
BEGIN:DAYLIGHT
TZOFFSETFROM:+0100
TZOFFSETTO:+0200
TZNAME:CEST
DTSTART:20200329T010000
END:DAYLIGHT
BEGIN:STANDARD
TZOFFSETFROM:+0200
TZOFFSETTO:+0100
TZNAME:CET
DTSTART:20201025T010000
END:STANDARD
BEGIN:DAYLIGHT
TZOFFSETFROM:+0100
TZOFFSETTO:+0200
TZNAME:CEST
DTSTART:20210328T010000
END:DAYLIGHT
BEGIN:STANDARD
TZOFFSETFROM:+0200
TZOFFSETTO:+0100
TZNAME:CET
DTSTART:20211031T010000
END:STANDARD
BEGIN:DAYLIGHT
TZOFFSETFROM:+0100
TZOFFSETTO:+0200
TZNAME:CEST
DTSTART:20220327T010000
END:DAYLIGHT
BEGIN:STANDARD
TZOFFSETFROM:+0200
TZOFFSETTO:+0100
TZNAME:CET
DTSTART:20221030T010000
END:STANDARD
END:VTIMEZONE
BEGIN:VEVENT
DTSTART;TZID=Europe/Paris:20211207T183000
DTEND;TZID=Europe/Paris:20211207T220000
DTSTAMP:20260425T131431
CREATED:20210616T134339Z
LAST-MODIFIED:20211119T140856Z
UID:2807-1638901800-1638914400@luberonetsorguesentreprendre.fr
SUMMARY:#SaveTheDate : Soirée réseau
DESCRIPTION:Rencontre avec tous les adhérents en présentiel\nPour Luberon & Sorgues Entreprendre\,\nLes Co-Présidents\,\nHélène Félix et Christophe Baudrier\nCourriel : communication@luberonetsorguesentreprendre.fr\nContact : 06 03 26 41 92 \nInscription : \nhttps://www.billetweb.fr/10emes-rencontres-conviviales
URL:https://luberonetsorguesentreprendre.fr/event/soiree-reseau/
LOCATION:Théus\, Cavaillon\, 84300\, France
CATEGORIES:Afterwork,Assemblé Générale
ATTACH;FMTTYPE=image/jpeg:https://luberonetsorguesentreprendre.fr/wp-content/uploads/2021/03/Entrepreneurs-Rencontres-Vaucluse-SorgueetLuberon.jpg
ORGANIZER;CN="Luberon & Sorgues Entreprendre":MAILTO:info@luberonetsorguesentreprendre.fr
END:VEVENT
END:VCALENDAR