BEGIN:VCALENDAR
VERSION:2.0
PRODID:-//Luberon &amp; Sorgues Entreprendre - ECPv6.15.20//NONSGML v1.0//EN
CALSCALE:GREGORIAN
METHOD:PUBLISH
X-ORIGINAL-URL:https://luberonetsorguesentreprendre.fr
X-WR-CALDESC:Évènements pour Luberon &amp; Sorgues Entreprendre
REFRESH-INTERVAL;VALUE=DURATION:PT1H
X-Robots-Tag:noindex
X-PUBLISHED-TTL:PT1H
BEGIN:VTIMEZONE
TZID:Europe/Paris
BEGIN:DAYLIGHT
TZOFFSETFROM:+0100
TZOFFSETTO:+0200
TZNAME:CEST
DTSTART:20240331T010000
END:DAYLIGHT
BEGIN:STANDARD
TZOFFSETFROM:+0200
TZOFFSETTO:+0100
TZNAME:CET
DTSTART:20241027T010000
END:STANDARD
BEGIN:DAYLIGHT
TZOFFSETFROM:+0100
TZOFFSETTO:+0200
TZNAME:CEST
DTSTART:20250330T010000
END:DAYLIGHT
BEGIN:STANDARD
TZOFFSETFROM:+0200
TZOFFSETTO:+0100
TZNAME:CET
DTSTART:20251026T010000
END:STANDARD
BEGIN:DAYLIGHT
TZOFFSETFROM:+0100
TZOFFSETTO:+0200
TZNAME:CEST
DTSTART:20260329T010000
END:DAYLIGHT
BEGIN:STANDARD
TZOFFSETFROM:+0200
TZOFFSETTO:+0100
TZNAME:CET
DTSTART:20261025T010000
END:STANDARD
END:VTIMEZONE
BEGIN:VEVENT
DTSTART;TZID=Europe/Paris:20250206T084500
DTEND;TZID=Europe/Paris:20250206T104500
DTSTAMP:20260422T040256
CREATED:20250114T130753Z
LAST-MODIFIED:20250114T132245Z
UID:6000-1738831500-1738838700@luberonetsorguesentreprendre.fr
SUMMARY:#SaveTheDate : Le Lab Atelier Intelligence Emotionnelle | 06.02.25
DESCRIPTION: 🧠❤️🎭 Jeudi 6 février |  L’Intelligence Emotionnelle\n\nAtelier N°2 “L’IE comme pilier du Leadership” chez Espace Tertiaire 117 Allée du Centre Tertiaire | 84800 Lagnes  \n\nà partir de 8h45 jusqu’à 10h45 \n\nIsabelle Thiefine et Tiphaine Datin coachs expérimentées et certifiées vous donnent les clés pour travailler votre Leadership 2.0. Le saviez-vous ? L’intelligence émotionnelle est la 1ère compétence recherchée en recrutement chez nos leaders et managers. Des ateliers participatifs et complémentaires pour comprendre quelles sont les dimensions de l’Intelligence Émotionnelle qui constituent les 4 piliers du Leadership ainsi que les dimensions considérées comme des réducteurs de Leadership.\n\n\nDétails et Inscription
URL:https://luberonetsorguesentreprendre.fr/event/savethedate-le-lab-atelier-intelligence-emotionnelle-06-02-25/
LOCATION:Cavaillon\, Cavaillon\, 84300\, France
CATEGORIES:Rencontre professionnelle
ATTACH;FMTTYPE=image/png:https://luberonetsorguesentreprendre.fr/wp-content/uploads/2024/02/emotions-e1708968978731.png
ORGANIZER;CN="LSE":MAILTO:communication@luberonetsorguesentreprendre.fr
END:VEVENT
END:VCALENDAR