BEGIN:VCALENDAR
VERSION:2.0
PRODID:-//Luberon &amp; Sorgues Entreprendre - ECPv6.15.20//NONSGML v1.0//EN
CALSCALE:GREGORIAN
METHOD:PUBLISH
X-WR-CALNAME:Luberon &amp; Sorgues Entreprendre
X-ORIGINAL-URL:https://luberonetsorguesentreprendre.fr
X-WR-CALDESC:Évènements pour Luberon &amp; Sorgues Entreprendre
REFRESH-INTERVAL;VALUE=DURATION:PT1H
X-Robots-Tag:noindex
X-PUBLISHED-TTL:PT1H
BEGIN:VTIMEZONE
TZID:Europe/Paris
BEGIN:DAYLIGHT
TZOFFSETFROM:+0100
TZOFFSETTO:+0200
TZNAME:CEST
DTSTART:20240331T010000
END:DAYLIGHT
BEGIN:STANDARD
TZOFFSETFROM:+0200
TZOFFSETTO:+0100
TZNAME:CET
DTSTART:20241027T010000
END:STANDARD
BEGIN:DAYLIGHT
TZOFFSETFROM:+0100
TZOFFSETTO:+0200
TZNAME:CEST
DTSTART:20250330T010000
END:DAYLIGHT
BEGIN:STANDARD
TZOFFSETFROM:+0200
TZOFFSETTO:+0100
TZNAME:CET
DTSTART:20251026T010000
END:STANDARD
BEGIN:DAYLIGHT
TZOFFSETFROM:+0100
TZOFFSETTO:+0200
TZNAME:CEST
DTSTART:20260329T010000
END:DAYLIGHT
BEGIN:STANDARD
TZOFFSETFROM:+0200
TZOFFSETTO:+0100
TZNAME:CET
DTSTART:20261025T010000
END:STANDARD
END:VTIMEZONE
BEGIN:VEVENT
DTSTART;TZID=Europe/Paris:20251113T180000
DTEND;TZID=Europe/Paris:20251113T200000
DTSTAMP:20260421T151606
CREATED:20251016T115449Z
LAST-MODIFIED:20251016T115449Z
UID:6436-1763056800-1763064000@luberonetsorguesentreprendre.fr
SUMMARY:#SaveTheDate : Visite Entreprise Barral Optique 13.11.25
DESCRIPTION:#SaveTheDate Jeudi 13 novembre 2025\n\nLe Groupe Visite Entreprise vous invite à découvrir : \nBarral Optique  \n16 quai des entreprises \n84 660 Maubec – Coustellet \n  \nRendez-vous  \nJeudi 13 novembre \nDe 18h à 20h \nInscription en ligne   \nNous vous proposons de rencontrer Hélène Barral\, opticienne passionnée\, pour découvrir l’histoire de cette entreprise et ce qu’il se cache derrière vos lunettes ! \nUne immersion dans un univers où la technologie évolue en permanence et où l’écoute et le conseil font la différence.  \nAu programme | Présentation de la boutique\, de l’atelier et des équipements de contrôle visuel & Cocktail convivial \n \n| A cette occasion\, en tant qu’adhérents Luberon & Sorgues Entreprendre\, vous pourrez découvrir les offres spéciales à destination des salariés de vos entreprises | \nAu plaisir de vous retrouver. \n 
URL:https://luberonetsorguesentreprendre.fr/event/savethedate-visite-entreprise-barral-optique-13-11-25/
LOCATION:Coustellet
CATEGORIES:Afterwork,Rencontre professionnelle
ATTACH;FMTTYPE=image/jpeg:https://luberonetsorguesentreprendre.fr/wp-content/uploads/2025/10/Invitation-Barral-Optique-13-nov.jpg
ORGANIZER;CN="Luberon & Sorgues Entreprendre":MAILTO:info@luberonetsorguesentreprendre.fr
END:VEVENT
BEGIN:VEVENT
DTSTART;TZID=Europe/Paris:20251125T183000
DTEND;TZID=Europe/Paris:20251125T223000
DTSTAMP:20260421T151606
CREATED:20250709T145036Z
LAST-MODIFIED:20251010T153614Z
UID:6274-1764095400-1764109800@luberonetsorguesentreprendre.fr
SUMMARY:#SaveTheDate : Rencontres Conviviales et Trophées L'Entreprise & Son Territoire 25.11.25
DESCRIPTION:#SaveTheDate Mardi 25 Novembre 2025 \n\nNous vous donnons rendez-vous le 25.11.25\nau Moulin de L’Auro 930 Chem. de la Muscadelle\, 84800 L’Isle-sur-la-Sorgue\n\nPour nos traditionnelles Rencontres Conviviales et la 6ème Edition de la Remise des Trophées L’Entreprise & Son Territoire\n\n\nNous récompenserons les initiatives exemplaires dans 4 catégories :\n\n\n𝗜𝗻𝗶𝘁𝗶𝗮𝘁𝗶𝘃𝗲 𝗱𝘂𝗿𝗮𝗯𝗹𝗲 : Pour vos actions en faveur de la transition écologique (réduction de ressources\, réemploi\, réparation\, recyclage).\n\n\n𝗖𝗼𝗼𝗽𝗲́𝗿𝗮𝘁𝗶𝗼𝗻 𝗶𝗻𝘁𝗲𝗿-𝗲𝗻𝘁𝗿𝗲𝗽𝗿𝗶𝘀𝗲𝘀 : Pour des collaborations remarquables et la mutualisation des ressources à l’échelle locale.\n\n\n𝗟’𝗵𝘂𝗺𝗮𝗶𝗻 & 𝗟’𝗲𝗻𝘁𝗿𝗲𝗽𝗿𝗶𝘀𝗲 : Pour votre engagement en faveur de l’esprit d’équipe\, la qualité de vie au travail\, le relationnel ou l’insertion professionnelle.\n\n\n𝗧𝗿𝗮𝗻𝘀𝗺𝗶𝘀𝘀𝗶𝗼𝗻 𝗱𝗲 𝗦𝗮𝘃𝗼𝗶𝗿-𝗳𝗮𝗶𝗿𝗲 : Pour la valorisation\, la sauvegarde et la transmission de compétences métiers spécifiques.\n\n\n\n\nParticipation à la soirée :Inscription gratuite en ligne  \n\n \n 
URL:https://luberonetsorguesentreprendre.fr/event/savethedate-rencontres-conviviales-et-trophees-lentreprise-son-territoire-25-11-25/
LOCATION:L’Isle sur la Sorgue\, L'Isle sur la Sorgue\, 84800\, France
CATEGORIES:Afterwork,Rencontre professionnelle
ATTACH;FMTTYPE=image/jpeg:https://luberonetsorguesentreprendre.fr/wp-content/uploads/2025/07/Invitation-25.11.25-V2_page-0001.jpg
ORGANIZER;CN="Luberon & Sorgues Entreprendre":MAILTO:info@luberonetsorguesentreprendre.fr
END:VEVENT
END:VCALENDAR