BEGIN:VCALENDAR
VERSION:2.0
PRODID:-//Luberon &amp; Sorgues Entreprendre - ECPv6.15.20//NONSGML v1.0//EN
CALSCALE:GREGORIAN
METHOD:PUBLISH
X-ORIGINAL-URL:https://luberonetsorguesentreprendre.fr
X-WR-CALDESC:Évènements pour Luberon &amp; Sorgues Entreprendre
REFRESH-INTERVAL;VALUE=DURATION:PT1H
X-Robots-Tag:noindex
X-PUBLISHED-TTL:PT1H
BEGIN:VTIMEZONE
TZID:Europe/Paris
BEGIN:DAYLIGHT
TZOFFSETFROM:+0100
TZOFFSETTO:+0200
TZNAME:CEST
DTSTART:20240331T010000
END:DAYLIGHT
BEGIN:STANDARD
TZOFFSETFROM:+0200
TZOFFSETTO:+0100
TZNAME:CET
DTSTART:20241027T010000
END:STANDARD
BEGIN:DAYLIGHT
TZOFFSETFROM:+0100
TZOFFSETTO:+0200
TZNAME:CEST
DTSTART:20250330T010000
END:DAYLIGHT
BEGIN:STANDARD
TZOFFSETFROM:+0200
TZOFFSETTO:+0100
TZNAME:CET
DTSTART:20251026T010000
END:STANDARD
BEGIN:DAYLIGHT
TZOFFSETFROM:+0100
TZOFFSETTO:+0200
TZNAME:CEST
DTSTART:20260329T010000
END:DAYLIGHT
BEGIN:STANDARD
TZOFFSETFROM:+0200
TZOFFSETTO:+0100
TZNAME:CET
DTSTART:20261025T010000
END:STANDARD
END:VTIMEZONE
BEGIN:VEVENT
DTSTART;TZID=Europe/Paris:20250304T180000
DTEND;TZID=Europe/Paris:20250304T203000
DTSTAMP:20260422T040431
CREATED:20250203T094831Z
LAST-MODIFIED:20250203T094831Z
UID:6006-1741111200-1741120200@luberonetsorguesentreprendre.fr
SUMMARY:#SaveTheDate : Le Lab Soirée de l'Assurance Pro | 04.03.25
DESCRIPTION:Le Lab’ de LSE vous donne rendez-vous\n𝗠𝗮𝗿𝗱𝗶 𝟰 𝗺𝗮𝗿𝘀 𝗦𝗼𝗶𝗿𝗲́𝗲 𝗱𝗲 𝗹’𝗔𝘀𝘀𝘂𝗿𝗮𝗻𝗰𝗲 𝗣𝗿𝗼 𝗩𝗼𝘂𝘀 & 𝗩𝗼𝘁𝗿𝗲 𝗲𝗻𝘁𝗿𝗲𝗽𝗿𝗶𝘀𝗲 | 𝗛𝗶𝘀𝘁𝗼𝗶𝗿𝗲𝘀 𝗱’𝗮𝘀𝘀𝘂𝗿𝗲𝘂𝗿𝘀 𝗲𝘁 𝗱’𝗮𝘀𝘀𝘂𝗿𝗲́𝘀  18h-20h30 | Lycée Dumas Amphithéâtre 84300 Cavaillon\n\n\nTour d’horizon & Informations sur les principales assurances destinées à protéger votre entreprise dans le cadre de l’exercice de votre activité professionnelle.\nEn effet\, de nombreux sinistres peuvent mettre en péril la situation financière d’une entreprise. Il faut donc nécessairement couvrir l’impact de ces événements potentiellement destructeurs.\nLa couverture du dirigeant ne doit pas être non plus négligée tout au long de son activité mais aussi en anticipation de la retraite…\n\n\nEnsemble faisons le point sur vos besoins et les évolutions des réglementations en la matière !\n\n\nInscription : https://forms.office.com/Pages/ResponsePage.aspx…\nAtelier suivi d’un buffet cocktail |\n\n\nIntervention de Morgane Moscatelli et Sylvain Lemousy Swiss Life | Romain Darchez Abeille Assurances | Renaud Ferrier Axa
URL:https://luberonetsorguesentreprendre.fr/event/savethedate-le-lab-soiree-asurance-pro-04-03-25/
LOCATION:Cavaillon\, Cavaillon\, 84300\, France
CATEGORIES:Rencontre professionnelle
ATTACH;FMTTYPE=image/jpeg:https://luberonetsorguesentreprendre.fr/wp-content/uploads/Visuel-soiree-assurance-pro-Lab-LSE.jpg
ORGANIZER;CN="LSE":MAILTO:communication@luberonetsorguesentreprendre.fr
END:VEVENT
END:VCALENDAR