BEGIN:VCALENDAR
VERSION:2.0
PRODID:-//Luberon &amp; Sorgues Entreprendre - ECPv6.15.20//NONSGML v1.0//EN
CALSCALE:GREGORIAN
METHOD:PUBLISH
X-WR-CALNAME:Luberon &amp; Sorgues Entreprendre
X-ORIGINAL-URL:https://luberonetsorguesentreprendre.fr
X-WR-CALDESC:Évènements pour Luberon &amp; Sorgues Entreprendre
REFRESH-INTERVAL;VALUE=DURATION:PT1H
X-Robots-Tag:noindex
X-PUBLISHED-TTL:PT1H
BEGIN:VTIMEZONE
TZID:Europe/Paris
BEGIN:DAYLIGHT
TZOFFSETFROM:+0100
TZOFFSETTO:+0200
TZNAME:CEST
DTSTART:20240331T010000
END:DAYLIGHT
BEGIN:STANDARD
TZOFFSETFROM:+0200
TZOFFSETTO:+0100
TZNAME:CET
DTSTART:20241027T010000
END:STANDARD
BEGIN:DAYLIGHT
TZOFFSETFROM:+0100
TZOFFSETTO:+0200
TZNAME:CEST
DTSTART:20250330T010000
END:DAYLIGHT
BEGIN:STANDARD
TZOFFSETFROM:+0200
TZOFFSETTO:+0100
TZNAME:CET
DTSTART:20251026T010000
END:STANDARD
BEGIN:DAYLIGHT
TZOFFSETFROM:+0100
TZOFFSETTO:+0200
TZNAME:CEST
DTSTART:20260329T010000
END:DAYLIGHT
BEGIN:STANDARD
TZOFFSETFROM:+0200
TZOFFSETTO:+0100
TZNAME:CET
DTSTART:20261025T010000
END:STANDARD
END:VTIMEZONE
BEGIN:VEVENT
DTSTART;TZID=Europe/Paris:20250311T083000
DTEND;TZID=Europe/Paris:20250311T103000
DTSTAMP:20260422T040436
CREATED:20250224T105047Z
LAST-MODIFIED:20250224T105135Z
UID:6028-1741681800-1741689000@luberonetsorguesentreprendre.fr
SUMMARY:#SaveTheDate : Le Lab Stratégie financière | 11.03.25
DESCRIPTION:11.03 | Stratégie Financière de l’entreprise | Le Lab’\nMardi 11 mars de 8h45 à 10h30 Chez Destination Luberon Pl. François Tourel\, 84300 Cavaillon\n« Evaluer la Stratégie financière de son entreprise » Comment devenir un pilote hors pair des finances\nde son entreprise | Atelier animé par Cécile Kervoern sous un format ludique grâce à un\nquestionnaire en ligne à compléter le Jour J\, au fur et à mesure de la matinée et des échanges ! Vous\nêtes une TPE/PME\, faisons le point sur :\nLe règlement clients\, quand et comment relancer ? Votre Budget : Suivi Trésorerie / Fournisseurs /\nFormat facturation / Cycle achat / Prévisionnel etc…\n(Re)découvrez tout un ensemble de Bonnes pratiques pour apporter des bases solides à votre\ngestion financière.
URL:https://luberonetsorguesentreprendre.fr/event/savethedate-le-lab-strategie-financiere-11-03-25/
LOCATION:Cavaillon\, Cavaillon\, 84300\, France
CATEGORIES:Rencontre professionnelle
ATTACH;FMTTYPE=image/png:https://luberonetsorguesentreprendre.fr/wp-content/uploads/11-mars.png
ORGANIZER;CN="LSE":MAILTO:communication@luberonetsorguesentreprendre.fr
END:VEVENT
END:VCALENDAR