BEGIN:VCALENDAR
VERSION:2.0
PRODID:-//Luberon &amp; Sorgues Entreprendre - ECPv6.15.20//NONSGML v1.0//EN
CALSCALE:GREGORIAN
METHOD:PUBLISH
X-WR-CALNAME:Luberon &amp; Sorgues Entreprendre
X-ORIGINAL-URL:https://luberonetsorguesentreprendre.fr
X-WR-CALDESC:Évènements pour Luberon &amp; Sorgues Entreprendre
REFRESH-INTERVAL;VALUE=DURATION:PT1H
X-Robots-Tag:noindex
X-PUBLISHED-TTL:PT1H
BEGIN:VTIMEZONE
TZID:Europe/Paris
BEGIN:DAYLIGHT
TZOFFSETFROM:+0100
TZOFFSETTO:+0200
TZNAME:CEST
DTSTART:20240331T010000
END:DAYLIGHT
BEGIN:STANDARD
TZOFFSETFROM:+0200
TZOFFSETTO:+0100
TZNAME:CET
DTSTART:20241027T010000
END:STANDARD
BEGIN:DAYLIGHT
TZOFFSETFROM:+0100
TZOFFSETTO:+0200
TZNAME:CEST
DTSTART:20250330T010000
END:DAYLIGHT
BEGIN:STANDARD
TZOFFSETFROM:+0200
TZOFFSETTO:+0100
TZNAME:CET
DTSTART:20251026T010000
END:STANDARD
BEGIN:DAYLIGHT
TZOFFSETFROM:+0100
TZOFFSETTO:+0200
TZNAME:CEST
DTSTART:20260329T010000
END:DAYLIGHT
BEGIN:STANDARD
TZOFFSETFROM:+0200
TZOFFSETTO:+0100
TZNAME:CET
DTSTART:20261025T010000
END:STANDARD
END:VTIMEZONE
BEGIN:VEVENT
DTSTART;TZID=Europe/Paris:20250313T080000
DTEND;TZID=Europe/Paris:20250313T103000
DTSTAMP:20260422T040436
CREATED:20250224T105817Z
LAST-MODIFIED:20250224T105900Z
UID:6031-1741852800-1741861800@luberonetsorguesentreprendre.fr
SUMMARY:#SaveTheDate : Groupe RH X CCPSMV | Atelier Recruteurs | 13.03.25
DESCRIPTION:13.03 | Groupe RH x CCPSMV Atelier Recruteurs 8h-10h Chez Greenlog Châteauneuf-de-\nGadagne\n[ Compétitivité\, stabilité\, réduction des coûts … La fidélisation comme atout stratégique ? ]\nAprès les actes I & II sur « la présentation de son entreprise lors du recrutement » et « l’intégration des\nsalariés »\, la CCPSMV et le groupe RH de LSE vous proposent de réfléchir « aux enjeux de la\nfidélisation »\, de partager nos interrogations et nos bonnes pratiques.\nCette séance sera animée par l’APEC\, France Travail et LSE et ponctuée de témoignages de\ndirigeants\, de responsables des ressources humaines ainsi que de salariés d’entreprises du\nterritoire. Notre objectif est que chacun des participants reparte avec au moins une idée à mettre en\nplace dans son entreprise.
URL:https://luberonetsorguesentreprendre.fr/event/savethedate-groupe-rh-atelier-recruteurs-13/
LOCATION:Châteauneuf de Gadagne\, 1462 Av. Voltaire Garcin\, Châteuneuf de Gadagne\, 84470
CATEGORIES:Rencontre professionnelle
ATTACH;FMTTYPE=image/jpeg:https://luberonetsorguesentreprendre.fr/wp-content/uploads/Invitation-13-mars-OK.jpg
ORGANIZER;CN="LSE":MAILTO:communication@luberonetsorguesentreprendre.fr
END:VEVENT
END:VCALENDAR