BEGIN:VCALENDAR
VERSION:2.0
PRODID:-//Luberon &amp; Sorgues Entreprendre - ECPv6.15.20//NONSGML v1.0//EN
CALSCALE:GREGORIAN
METHOD:PUBLISH
X-ORIGINAL-URL:https://luberonetsorguesentreprendre.fr
X-WR-CALDESC:Évènements pour Luberon &amp; Sorgues Entreprendre
REFRESH-INTERVAL;VALUE=DURATION:PT1H
X-Robots-Tag:noindex
X-PUBLISHED-TTL:PT1H
BEGIN:VTIMEZONE
TZID:Europe/Paris
BEGIN:DAYLIGHT
TZOFFSETFROM:+0100
TZOFFSETTO:+0200
TZNAME:CEST
DTSTART:20240331T010000
END:DAYLIGHT
BEGIN:STANDARD
TZOFFSETFROM:+0200
TZOFFSETTO:+0100
TZNAME:CET
DTSTART:20241027T010000
END:STANDARD
BEGIN:DAYLIGHT
TZOFFSETFROM:+0100
TZOFFSETTO:+0200
TZNAME:CEST
DTSTART:20250330T010000
END:DAYLIGHT
BEGIN:STANDARD
TZOFFSETFROM:+0200
TZOFFSETTO:+0100
TZNAME:CET
DTSTART:20251026T010000
END:STANDARD
BEGIN:DAYLIGHT
TZOFFSETFROM:+0100
TZOFFSETTO:+0200
TZNAME:CEST
DTSTART:20260329T010000
END:DAYLIGHT
BEGIN:STANDARD
TZOFFSETFROM:+0200
TZOFFSETTO:+0100
TZNAME:CET
DTSTART:20261025T010000
END:STANDARD
END:VTIMEZONE
BEGIN:VEVENT
DTSTART;TZID=Europe/Paris:20250321T110000
DTEND;TZID=Europe/Paris:20250321T133000
DTSTAMP:20260422T040523
CREATED:20250306T162849Z
LAST-MODIFIED:20250306T162849Z
UID:6045-1742554800-1742563800@luberonetsorguesentreprendre.fr
SUMMARY:#SaveTheDate : Rencontre Zéro déchet Zéro plastique 21.03.25
DESCRIPTION:𝗤𝘂𝗲𝗹𝗹𝗲𝘀 𝘀𝗼𝗹𝘂𝘁𝗶𝗼𝗻𝘀 « 𝘇𝗲́𝗿𝗼 𝗱𝗲́𝗰𝗵𝗲𝘁 / 𝘇𝗲́𝗿𝗼 𝗽𝗹𝗮𝘀𝘁𝗶𝗾𝘂𝗲 » ? 𝗦𝗮𝗹𝗹𝗲 𝗱𝗲 𝗹’𝗔𝗿𝗯𝗼𝘂𝘀𝗶𝗲̀𝗿𝗲 𝗮̀ 𝗖𝗵𝗮̂𝘁𝗲𝗮𝘂𝗻𝗲𝘂𝗳-𝗱𝗲-𝗚𝗮𝗱𝗮𝗴𝗻𝗲 | 𝟮𝟭 𝗺𝗮𝗿𝘀 𝗱𝗲 𝟭𝟭𝗵𝟯𝟬 𝗮̀ 𝟭𝟰𝗵 Entreprises et associations venez trouver des solutions concrètes pour mener à bien vos expérimentations « Zéro déchet / Zéro plastique »\, en compagnie de Nathalie Gontard et Jérémie Pichon. Un bon moyen d’anticiper les changements de réglementation en cours\, et par conséquent de réaliser des économies. Tout en favorisant votre démarche RSE ! Table-ronde proposée avec les entreprises du territoire\, dont Laura Dos Santos directrice de site chez Mayoly\, Nicolas Kammoun\, directeur d’usine chez Florette\, Agnès Coste\, responsable RSE chez Aroma-Zone et Yoann Aucremann\, dirigeant d’I level + Temps d’échange\, partage de solutions locales avec Biocoop Le Thor\, Le Beau Geste\, Bijouseat / Surcyclum\, FDS PRO et l’Agence régionale de la biodiversité (ARBE). \n Inscription
URL:https://luberonetsorguesentreprendre.fr/event/savethedate-rencontre-zero-dechet-zero-plastique-21-03-25/
LOCATION:Châteauneuf de Gadagne\, 1462 Av. Voltaire Garcin\, Châteuneuf de Gadagne\, 84470
CATEGORIES:Rencontre professionnelle
ATTACH;FMTTYPE=image/jpeg:https://luberonetsorguesentreprendre.fr/wp-content/uploads/temps-pro-quelles-solutions-zero-dechet-zero-plastique-chateauneuf-de-gadagne.jpg
END:VEVENT
END:VCALENDAR