BEGIN:VCALENDAR
VERSION:2.0
PRODID:-//Luberon &amp; Sorgues Entreprendre - ECPv6.15.20//NONSGML v1.0//EN
CALSCALE:GREGORIAN
METHOD:PUBLISH
X-ORIGINAL-URL:https://luberonetsorguesentreprendre.fr
X-WR-CALDESC:Évènements pour Luberon &amp; Sorgues Entreprendre
REFRESH-INTERVAL;VALUE=DURATION:PT1H
X-Robots-Tag:noindex
X-PUBLISHED-TTL:PT1H
BEGIN:VTIMEZONE
TZID:Europe/Paris
BEGIN:DAYLIGHT
TZOFFSETFROM:+0100
TZOFFSETTO:+0200
TZNAME:CEST
DTSTART:20240331T010000
END:DAYLIGHT
BEGIN:STANDARD
TZOFFSETFROM:+0200
TZOFFSETTO:+0100
TZNAME:CET
DTSTART:20241027T010000
END:STANDARD
BEGIN:DAYLIGHT
TZOFFSETFROM:+0100
TZOFFSETTO:+0200
TZNAME:CEST
DTSTART:20250330T010000
END:DAYLIGHT
BEGIN:STANDARD
TZOFFSETFROM:+0200
TZOFFSETTO:+0100
TZNAME:CET
DTSTART:20251026T010000
END:STANDARD
BEGIN:DAYLIGHT
TZOFFSETFROM:+0100
TZOFFSETTO:+0200
TZNAME:CEST
DTSTART:20260329T010000
END:DAYLIGHT
BEGIN:STANDARD
TZOFFSETFROM:+0200
TZOFFSETTO:+0100
TZNAME:CET
DTSTART:20261025T010000
END:STANDARD
END:VTIMEZONE
BEGIN:VEVENT
DTSTART;TZID=Europe/Paris:20250325T083000
DTEND;TZID=Europe/Paris:20250325T100000
DTSTAMP:20260422T040516
CREATED:20250306T163355Z
LAST-MODIFIED:20250306T163355Z
UID:6048-1742891400-1742896800@luberonetsorguesentreprendre.fr
SUMMARY:#SaveTheDate : Visite Entreprise Soprodep 25.03.25
DESCRIPTION:𝗥𝗲𝗻𝗱𝗲𝘇-𝘃𝗼𝘂𝘀 𝗺𝗮𝗿𝗱𝗶 𝟮𝟱 𝗺𝗮𝗿𝘀 𝗱𝗲 𝟴𝗵𝟯𝟬 𝗮̀ 𝟭𝟬𝗵 𝗰𝗵𝗲𝘇 𝗦𝗼𝗽𝗿𝗼𝗱𝗲𝗽 𝟰𝟴𝟭 𝗿𝗼𝘂𝘁𝗲 𝗱𝗲𝘀 𝗩𝗶𝗴𝗻𝗲̀𝗿𝗲𝘀 𝟴𝟰𝟯𝟬𝟬 𝗖𝗮𝘃𝗮𝗶𝗹𝗹𝗼𝗻. 𝗡𝗼𝘂𝘀 𝘃𝗼𝘂𝘀 𝗽𝗿𝗼𝗽𝗼𝘀𝗼𝗻𝘀 𝘂𝗻𝗲 𝗿𝗲𝗻𝗰𝗼𝗻𝘁𝗿𝗲 𝗮𝘃𝗲𝗰 𝗙𝗿𝗲́𝗱𝗲́𝗿𝗶𝗰 𝗪𝗶𝗹𝗹𝗶𝗮𝗺𝘀𝗼𝗻\, 𝗱𝗶𝗿𝗶𝗴𝗲𝗮𝗻𝘁 𝗱𝗲 𝗹𝗮 𝗦𝗼𝗰𝗶𝗲́𝘁𝗲́ 𝗣𝗿𝗼𝘃𝗲𝗻𝗰̧𝗮𝗹𝗲 𝗱𝗲𝘀 𝗘𝗽𝗶𝗰𝗲𝘀 : Fabricant de mélanges d’épices et aromates\, de marinades liquides ainsi que d’assaisonnements complets pour bouchers-charcutiers et industries agro-alimentaires. Au programme : Découverte de l’activité et des produits | Echange et réflexions sur l’impact de la situation économique\, climatique et géopolitique sur les TPE et PME locales… \nInscription 
URL:https://luberonetsorguesentreprendre.fr/event/savethedate-visite-entreprise-soprodep-25-03-25/
LOCATION:Cavaillon\, Cavaillon\, 84300\, France
CATEGORIES:Rencontre professionnelle
ATTACH;FMTTYPE=image/jpeg:https://luberonetsorguesentreprendre.fr/wp-content/uploads/481083368_933007275714938_299243468142826200_n.jpg
END:VEVENT
END:VCALENDAR