BEGIN:VCALENDAR
VERSION:2.0
PRODID:-//Luberon &amp; Sorgues Entreprendre - ECPv6.15.20//NONSGML v1.0//EN
CALSCALE:GREGORIAN
METHOD:PUBLISH
X-WR-CALNAME:Luberon &amp; Sorgues Entreprendre
X-ORIGINAL-URL:https://luberonetsorguesentreprendre.fr
X-WR-CALDESC:Évènements pour Luberon &amp; Sorgues Entreprendre
REFRESH-INTERVAL;VALUE=DURATION:PT1H
X-Robots-Tag:noindex
X-PUBLISHED-TTL:PT1H
BEGIN:VTIMEZONE
TZID:Europe/Paris
BEGIN:DAYLIGHT
TZOFFSETFROM:+0100
TZOFFSETTO:+0200
TZNAME:CEST
DTSTART:20240331T010000
END:DAYLIGHT
BEGIN:STANDARD
TZOFFSETFROM:+0200
TZOFFSETTO:+0100
TZNAME:CET
DTSTART:20241027T010000
END:STANDARD
BEGIN:DAYLIGHT
TZOFFSETFROM:+0100
TZOFFSETTO:+0200
TZNAME:CEST
DTSTART:20250330T010000
END:DAYLIGHT
BEGIN:STANDARD
TZOFFSETFROM:+0200
TZOFFSETTO:+0100
TZNAME:CET
DTSTART:20251026T010000
END:STANDARD
BEGIN:DAYLIGHT
TZOFFSETFROM:+0100
TZOFFSETTO:+0200
TZNAME:CEST
DTSTART:20260329T010000
END:DAYLIGHT
BEGIN:STANDARD
TZOFFSETFROM:+0200
TZOFFSETTO:+0100
TZNAME:CET
DTSTART:20261025T010000
END:STANDARD
END:VTIMEZONE
BEGIN:VEVENT
DTSTART;TZID=Europe/Paris:20250408T183000
DTEND;TZID=Europe/Paris:20250408T210000
DTSTAMP:20260422T040249
CREATED:20250318T131515Z
LAST-MODIFIED:20250318T131515Z
UID:6057-1744137000-1744146000@luberonetsorguesentreprendre.fr
SUMMARY:#SaveTheDate : Visite Entreprise Chineurs de Malts 08.04.25
DESCRIPTION:A vos agendas !  Le groupe Visite Entreprise vous propose de découvrir Les Chineurs de Malts – Artisans Distillateurs Mardi 8 Avril | Rendez-vous de 18h30 à 21h à la distillerie ZA Saint-Joseph\, 40 All. du Gros Vert\, 84250 Le Thor | Production de Whisky Single Malt. C’est au hasard d’une discussion en septembre 2020 que le projet de production de whisky français naît entre Loïc Puviland et Jean-Yves Pomaret\, marquant le mariage parfait entre l’expertise du marchand de spiritueux et la passion d’un œnologue. Leur vision commune vise à créer des whiskies d’une grande richesse\, reflétant les caractéristiques uniques du terroir français.\nAu programme découverte de la distillerie & dégustation\nInscription 
URL:https://luberonetsorguesentreprendre.fr/event/savethedate-visite-entreprise-chineurs-de-malts-08-04-25/
LOCATION:Le Thor\, 84250\, France
CATEGORIES:Rencontre professionnelle
ATTACH;FMTTYPE=image/jpeg:https://luberonetsorguesentreprendre.fr/wp-content/uploads/480558017_942573514758314_5006460050861759708_n.jpg
END:VEVENT
END:VCALENDAR