BEGIN:VCALENDAR
VERSION:2.0
PRODID:-//Luberon &amp; Sorgues Entreprendre - ECPv6.15.20//NONSGML v1.0//EN
CALSCALE:GREGORIAN
METHOD:PUBLISH
X-WR-CALNAME:Luberon &amp; Sorgues Entreprendre
X-ORIGINAL-URL:https://luberonetsorguesentreprendre.fr
X-WR-CALDESC:Évènements pour Luberon &amp; Sorgues Entreprendre
REFRESH-INTERVAL;VALUE=DURATION:PT1H
X-Robots-Tag:noindex
X-PUBLISHED-TTL:PT1H
BEGIN:VTIMEZONE
TZID:Europe/Paris
BEGIN:DAYLIGHT
TZOFFSETFROM:+0100
TZOFFSETTO:+0200
TZNAME:CEST
DTSTART:20240331T010000
END:DAYLIGHT
BEGIN:STANDARD
TZOFFSETFROM:+0200
TZOFFSETTO:+0100
TZNAME:CET
DTSTART:20241027T010000
END:STANDARD
BEGIN:DAYLIGHT
TZOFFSETFROM:+0100
TZOFFSETTO:+0200
TZNAME:CEST
DTSTART:20250330T010000
END:DAYLIGHT
BEGIN:STANDARD
TZOFFSETFROM:+0200
TZOFFSETTO:+0100
TZNAME:CET
DTSTART:20251026T010000
END:STANDARD
BEGIN:DAYLIGHT
TZOFFSETFROM:+0100
TZOFFSETTO:+0200
TZNAME:CEST
DTSTART:20260329T010000
END:DAYLIGHT
BEGIN:STANDARD
TZOFFSETFROM:+0200
TZOFFSETTO:+0100
TZNAME:CET
DTSTART:20261025T010000
END:STANDARD
END:VTIMEZONE
BEGIN:VEVENT
DTSTART;TZID=Europe/Paris:20250506T074500
DTEND;TZID=Europe/Paris:20250506T093000
DTSTAMP:20260422T011844
CREATED:20250415T074436Z
LAST-MODIFIED:20250415T074436Z
UID:6143-1746517500-1746523800@luberonetsorguesentreprendre.fr
SUMMARY:#SaveTheDate : Matinale de la Com' 06.05.25
DESCRIPTION:Matinale de la Com’ |  Un peu de douceur dans ce monde de brutes ? 7h45-9h30\n\n\nTension | Agressivité | Incompréhension : Transformez vos relations clients grâce à une communication authentique et apaisée !\nIsabelle Thiéfine vous propose d’explorer\, lors d’une présentation interactive\, un modèle de communication qui transforme les échanges avec vos clients et partenaires. Découvrez comment instaurer un dialogue basé sur l’écoute profonde\, l’expression claire des besoins et la recherche de solutions mutuellement satisfaisantes. Objectif : Fidélisation client\, Réduction des conflits et Expérience client positive. \nMardi 6 mai de 7h45 à 9h30 Esat Ateliers du Luberon | 868 avenue de Cheval-Blanc  | 84300 Cavaillon In\n\n\nInscription \n\n\n\n 
URL:https://luberonetsorguesentreprendre.fr/event/savethedate-matinale-de-la-com-06-05-25/
LOCATION:Cavaillon\, Cavaillon\, 84300\, France
CATEGORIES:Rencontre professionnelle
ATTACH;FMTTYPE=image/png:https://luberonetsorguesentreprendre.fr/wp-content/uploads/2025/04/COm-6-mai.png
END:VEVENT
END:VCALENDAR