BEGIN:VCALENDAR
VERSION:2.0
PRODID:-//Luberon &amp; Sorgues Entreprendre - ECPv6.15.20//NONSGML v1.0//EN
CALSCALE:GREGORIAN
METHOD:PUBLISH
X-WR-CALNAME:Luberon &amp; Sorgues Entreprendre
X-ORIGINAL-URL:https://luberonetsorguesentreprendre.fr
X-WR-CALDESC:Évènements pour Luberon &amp; Sorgues Entreprendre
REFRESH-INTERVAL;VALUE=DURATION:PT1H
X-Robots-Tag:noindex
X-PUBLISHED-TTL:PT1H
BEGIN:VTIMEZONE
TZID:Europe/Paris
BEGIN:DAYLIGHT
TZOFFSETFROM:+0100
TZOFFSETTO:+0200
TZNAME:CEST
DTSTART:20240331T010000
END:DAYLIGHT
BEGIN:STANDARD
TZOFFSETFROM:+0200
TZOFFSETTO:+0100
TZNAME:CET
DTSTART:20241027T010000
END:STANDARD
BEGIN:DAYLIGHT
TZOFFSETFROM:+0100
TZOFFSETTO:+0200
TZNAME:CEST
DTSTART:20250330T010000
END:DAYLIGHT
BEGIN:STANDARD
TZOFFSETFROM:+0200
TZOFFSETTO:+0100
TZNAME:CET
DTSTART:20251026T010000
END:STANDARD
BEGIN:DAYLIGHT
TZOFFSETFROM:+0100
TZOFFSETTO:+0200
TZNAME:CEST
DTSTART:20260329T010000
END:DAYLIGHT
BEGIN:STANDARD
TZOFFSETFROM:+0200
TZOFFSETTO:+0100
TZNAME:CET
DTSTART:20261025T010000
END:STANDARD
END:VTIMEZONE
BEGIN:VEVENT
DTSTART;TZID=Europe/Paris:20251204T110000
DTEND;TZID=Europe/Paris:20251204T120000
DTSTAMP:20260421T152113
CREATED:20251117T125312Z
LAST-MODIFIED:20251117T125312Z
UID:6493-1764846000-1764849600@luberonetsorguesentreprendre.fr
SUMMARY:#SaveTheDate : Webinaire E-Facturation 4.12
DESCRIPTION:𝗩𝗶𝘀𝗶𝗼 𝗰𝗼𝗻𝗳𝗲́𝗿𝗲𝗻𝗰𝗲 𝗘-𝗳𝗮𝗰𝘁𝘂𝗿𝗮𝘁𝗶𝗼𝗻 |\n💻 LSE vous invite à un webinaire sur un sujet qui va impacter toutes les structures : l’obligation de la facturation électronique à partir de 2026. Jeudi 4.12 de 11h00 à 12h00 (45 minutes d’intervention avec questions/réponses) En ligne |\nInscription : https://forms.office.com/e/nh0zeGPNSK\nAu programme\n• Présentation de la réforme et de ses échéances.\n• Anticipation : Les étapes clés pour se conformer aux nouvelles procédures.\n• Explication des obligations de transmission des données de facturation (e-invoicing) et de transaction (e-reporting) à l’administration fiscale.\nIntervention : Cédric Ribeiro\, Expert-Comptable Adezio
URL:https://luberonetsorguesentreprendre.fr/event/savethedate-webinaire-e-facturation-4-12/
CATEGORIES:Rencontre professionnelle
ATTACH;FMTTYPE=image/png:https://luberonetsorguesentreprendre.fr/wp-content/uploads/2025/11/efac.png
ORGANIZER;CN="Luberon & Sorgues Entreprendre":MAILTO:info@luberonetsorguesentreprendre.fr
END:VEVENT
END:VCALENDAR