BEGIN:VCALENDAR
VERSION:2.0
PRODID:-//Luberon &amp; Sorgues Entreprendre - ECPv6.15.20//NONSGML v1.0//EN
CALSCALE:GREGORIAN
METHOD:PUBLISH
X-WR-CALNAME:Luberon &amp; Sorgues Entreprendre
X-ORIGINAL-URL:https://luberonetsorguesentreprendre.fr
X-WR-CALDESC:Évènements pour Luberon &amp; Sorgues Entreprendre
REFRESH-INTERVAL;VALUE=DURATION:PT1H
X-Robots-Tag:noindex
X-PUBLISHED-TTL:PT1H
BEGIN:VTIMEZONE
TZID:Europe/Paris
BEGIN:DAYLIGHT
TZOFFSETFROM:+0100
TZOFFSETTO:+0200
TZNAME:CEST
DTSTART:20250330T010000
END:DAYLIGHT
BEGIN:STANDARD
TZOFFSETFROM:+0200
TZOFFSETTO:+0100
TZNAME:CET
DTSTART:20251026T010000
END:STANDARD
BEGIN:DAYLIGHT
TZOFFSETFROM:+0100
TZOFFSETTO:+0200
TZNAME:CEST
DTSTART:20260329T010000
END:DAYLIGHT
BEGIN:STANDARD
TZOFFSETFROM:+0200
TZOFFSETTO:+0100
TZNAME:CET
DTSTART:20261025T010000
END:STANDARD
BEGIN:DAYLIGHT
TZOFFSETFROM:+0100
TZOFFSETTO:+0200
TZNAME:CEST
DTSTART:20270328T010000
END:DAYLIGHT
BEGIN:STANDARD
TZOFFSETFROM:+0200
TZOFFSETTO:+0100
TZNAME:CET
DTSTART:20271031T010000
END:STANDARD
END:VTIMEZONE
BEGIN:VEVENT
DTSTART;TZID=Europe/Paris:20260122T080000
DTEND;TZID=Europe/Paris:20260122T100000
DTSTAMP:20260421T135508
CREATED:20251217T151254Z
LAST-MODIFIED:20251218T171540Z
UID:6566-1769068800-1769076000@luberonetsorguesentreprendre.fr
SUMMARY:#SaveTheDate : Groupe RH X CCPSMV Atelier Recrutez autrement 22.01
DESCRIPTION:La CCPSMV et le groupe RH de LSE vous invitent jeudi 22 janvier 2026 à un nouveau rendez-vous professionnel autour du recrutement ! \nNotre ambition : favoriser l’emploi et le maintien des compétences locales à travers la collaboration et l’innovation dans la gestion des ressources humaines.  \nCette séance\, animée par LSE\, les responsables RH et l’APEC sera l’occasion de découvrir les thèmes du recrutement circulaire et de la mutualisation de la formation. \nNous comptons sur votre présence lors de cette matinée pour contribuer à une réflexion commune et au développement de ces actions !  \nInscription obligatoire avant le 14 JANVIER 2026 (dans la limite des places disponibles) :  PARTICIPEZ \nCe rendez-vous sur le thème des pratiques de recrutement\, s’inscrit dans le cadre des prochaines  \nRencontres de l’Emploi et du Recrutement ponctuées par le Forum du mardi 10 mars 2026  \norganisé par la CCPSMV et ses partenaires de l’emploi et de l’insertion à la salle des fêtes du Thor\, de 13h30 à 17h \n\n\n  \n\n \n 
URL:https://luberonetsorguesentreprendre.fr/event/savethedate-groupe-rh-x-ccpsmv-atelier-recrutez-autrement-22-01/
LOCATION:Châteauneuf de Gadagne\, 1462 Av. Voltaire Garcin\, Châteuneuf de Gadagne\, 84470
CATEGORIES:Rencontre professionnelle
ATTACH;FMTTYPE=image/png:https://luberonetsorguesentreprendre.fr/wp-content/uploads/2025/12/RH-22.01.png
ORGANIZER;CN="Luberon & Sorgues Entreprendre":MAILTO:info@luberonetsorguesentreprendre.fr
END:VEVENT
END:VCALENDAR