BEGIN:VCALENDAR
VERSION:2.0
PRODID:-//Luberon &amp; Sorgues Entreprendre - ECPv6.15.20//NONSGML v1.0//EN
CALSCALE:GREGORIAN
METHOD:PUBLISH
X-WR-CALNAME:Luberon &amp; Sorgues Entreprendre
X-ORIGINAL-URL:https://luberonetsorguesentreprendre.fr
X-WR-CALDESC:Évènements pour Luberon &amp; Sorgues Entreprendre
REFRESH-INTERVAL;VALUE=DURATION:PT1H
X-Robots-Tag:noindex
X-PUBLISHED-TTL:PT1H
BEGIN:VTIMEZONE
TZID:Europe/Paris
BEGIN:DAYLIGHT
TZOFFSETFROM:+0100
TZOFFSETTO:+0200
TZNAME:CEST
DTSTART:20220327T010000
END:DAYLIGHT
BEGIN:STANDARD
TZOFFSETFROM:+0200
TZOFFSETTO:+0100
TZNAME:CET
DTSTART:20221030T010000
END:STANDARD
BEGIN:DAYLIGHT
TZOFFSETFROM:+0100
TZOFFSETTO:+0200
TZNAME:CEST
DTSTART:20230326T010000
END:DAYLIGHT
BEGIN:STANDARD
TZOFFSETFROM:+0200
TZOFFSETTO:+0100
TZNAME:CET
DTSTART:20231029T010000
END:STANDARD
BEGIN:DAYLIGHT
TZOFFSETFROM:+0100
TZOFFSETTO:+0200
TZNAME:CEST
DTSTART:20240331T010000
END:DAYLIGHT
BEGIN:STANDARD
TZOFFSETFROM:+0200
TZOFFSETTO:+0100
TZNAME:CET
DTSTART:20241027T010000
END:STANDARD
END:VTIMEZONE
BEGIN:VEVENT
DTSTART;TZID=Europe/Paris:20230207T083000
DTEND;TZID=Europe/Paris:20230207T110000
DTSTAMP:20260423T173638
CREATED:20230124T102626Z
LAST-MODIFIED:20230124T102755Z
UID:5063-1675758600-1675767600@luberonetsorguesentreprendre.fr
SUMMARY:#SaveTheDate : Groupe TPE 07.02
DESCRIPTION:Chers adhérents\, le Groupe TPE vous propose un nouvel atelier « L’intelligence Emotionnelle c’est quoi et à quoi ça sert ? »\n\nL’Intelligence Emotionnelle se caractérise par la capacité d’un individu à percevoir\, reconnaître\, comprendre et réguler ses propres émotions et composer avec celles des autres personnes. Découvrez cette forme d’intelligence qui va au-delà des capacités cognitives. C’est Isabelle Thiefine\, coach certifiée et formatrice qui nous initiera à la prise en compte des émotions et à leur gestion en entreprise.\n\nRendez-vous mardi 7 février de 8h30 à 11h chez Sylvestre Matériaux route des Imberts 84220 Cabrières d’Avignon\nINSCRIPTION\n\n \n 
URL:https://luberonetsorguesentreprendre.fr/event/savethedate-groupe-tpe-07-02/
LOCATION:Coustellet
CATEGORIES:Rencontre professionnelle
ATTACH;FMTTYPE=image/jpeg:https://luberonetsorguesentreprendre.fr/wp-content/uploads/2023/01/327090409_1131254084211787_1822364109149997095_n.jpg
ORGANIZER;CN="Luberon & Sorgues Entreprendre":MAILTO:info@luberonetsorguesentreprendre.fr
END:VEVENT
BEGIN:VEVENT
DTSTART;TZID=Europe/Paris:20230209T083000
DTEND;TZID=Europe/Paris:20230209T103000
DTSTAMP:20260423T173638
CREATED:20230124T135055Z
LAST-MODIFIED:20230124T135055Z
UID:5067-1675931400-1675938600@luberonetsorguesentreprendre.fr
SUMMARY:#SaveTheDate : Visite Entreprise 09.02
DESCRIPTION:Chers adhérents\, le Groupe Visite Entreprise vous invite à découvrir :Kookabarra  \n 558 Av. de Cheval Blanc                                                                           \n84300 Cavaillon \nJeudi 9 février de 8h30 à 10h30 \nDu haut de ses 15 ans d’expérience\, Kookabarra est leader sur le marché des jus de fruits frais pressés depuis 2006. Grâce à un étroit partenariat avec les agriculteurs locaux\, situés à maximum 30km de son site de production\, l’entreprise propose une gamme de produits frais riches en couleurs et en saveurs. Il est primordial pour elle de prendre soin de son terroir et de chérir l’environnement dans lequel elle trouve ses matières premières. Ses fruits font l’objet d’une sélection précise\, réalisée en étroite collaboration entre les producteurs et l’équipe qualité\, pour en tirer le meilleur et presser un jus aux attributs gustatifs\, organoleptiques et nutritionnels préservés. \n\n\nINSCRIPTION\n\n\n 
URL:https://luberonetsorguesentreprendre.fr/event/savethedate-visite-entreprise-09-02/
LOCATION:Cavaillon\, Cavaillon\, 84300\, France
CATEGORIES:Rencontre professionnelle
ATTACH;FMTTYPE=image/jpeg:https://luberonetsorguesentreprendre.fr/wp-content/uploads/2023/01/Visite-Entreprise-Kookabarra-9.02-bis_page-0001.jpg
ORGANIZER;CN="Luberon & Sorgues Entreprendre":MAILTO:info@luberonetsorguesentreprendre.fr
END:VEVENT
END:VCALENDAR