BEGIN:VCALENDAR
VERSION:2.0
PRODID:-//Luberon &amp; Sorgues Entreprendre - ECPv6.15.20//NONSGML v1.0//EN
CALSCALE:GREGORIAN
METHOD:PUBLISH
X-WR-CALNAME:Luberon &amp; Sorgues Entreprendre
X-ORIGINAL-URL:https://luberonetsorguesentreprendre.fr
X-WR-CALDESC:Évènements pour Luberon &amp; Sorgues Entreprendre
REFRESH-INTERVAL;VALUE=DURATION:PT1H
X-Robots-Tag:noindex
X-PUBLISHED-TTL:PT1H
BEGIN:VTIMEZONE
TZID:Europe/Paris
BEGIN:DAYLIGHT
TZOFFSETFROM:+0100
TZOFFSETTO:+0200
TZNAME:CEST
DTSTART:20220327T010000
END:DAYLIGHT
BEGIN:STANDARD
TZOFFSETFROM:+0200
TZOFFSETTO:+0100
TZNAME:CET
DTSTART:20221030T010000
END:STANDARD
BEGIN:DAYLIGHT
TZOFFSETFROM:+0100
TZOFFSETTO:+0200
TZNAME:CEST
DTSTART:20230326T010000
END:DAYLIGHT
BEGIN:STANDARD
TZOFFSETFROM:+0200
TZOFFSETTO:+0100
TZNAME:CET
DTSTART:20231029T010000
END:STANDARD
BEGIN:DAYLIGHT
TZOFFSETFROM:+0100
TZOFFSETTO:+0200
TZNAME:CEST
DTSTART:20240331T010000
END:DAYLIGHT
BEGIN:STANDARD
TZOFFSETFROM:+0200
TZOFFSETTO:+0100
TZNAME:CET
DTSTART:20241027T010000
END:STANDARD
END:VTIMEZONE
BEGIN:VEVENT
DTSTART;TZID=Europe/Paris:20230516T083000
DTEND;TZID=Europe/Paris:20230516T110000
DTSTAMP:20260423T115201
CREATED:20230424T065134Z
LAST-MODIFIED:20230424T065246Z
UID:5267-1684225800-1684234800@luberonetsorguesentreprendre.fr
SUMMARY:#SaveTheDate : Groupe TPE 16.05
DESCRIPTION:Cybersécurité mais où sont passées mes données ?! \nLa cybersécurité est l’affaire de tous à titre personnel et professionnel. Le risque d’être touché par ces attaques est bien réel et les conséquences peuvent être dramatiques surtout pour les entreprises. Etes-vous bien protégé ? Avez-vous les bons réflexes ? Venez découvrir les bonnes pratiques pour optimiser votre hygiène numérique. \nAtelier animé par Christophe Baudrier Dirigeant de Geco It. \nMardi 16 mai de 9h à 11h /  Accueil à partir de 8h30 \nChez Geco It \n1017 Rte du Thor \n84800 L’Isle-sur-la-Sorgue \nInscription \n  \n 
URL:https://luberonetsorguesentreprendre.fr/event/savethedate-groupe-tpe-16-05/
LOCATION:L’Isle sur la Sorgue\, L'Isle sur la Sorgue\, 84800\, France
CATEGORIES:Rencontre professionnelle
ATTACH;FMTTYPE=image/png:https://luberonetsorguesentreprendre.fr/wp-content/uploads/2023/04/Groupe-TPE-16-mai.png
ORGANIZER;CN="Luberon & Sorgues Entreprendre":MAILTO:info@luberonetsorguesentreprendre.fr
END:VEVENT
END:VCALENDAR