BEGIN:VCALENDAR
VERSION:2.0
PRODID:-//Luberon &amp; Sorgues Entreprendre - ECPv6.15.20//NONSGML v1.0//EN
CALSCALE:GREGORIAN
METHOD:PUBLISH
X-ORIGINAL-URL:https://luberonetsorguesentreprendre.fr
X-WR-CALDESC:Évènements pour Luberon &amp; Sorgues Entreprendre
REFRESH-INTERVAL;VALUE=DURATION:PT1H
X-Robots-Tag:noindex
X-PUBLISHED-TTL:PT1H
BEGIN:VTIMEZONE
TZID:Europe/Paris
BEGIN:DAYLIGHT
TZOFFSETFROM:+0100
TZOFFSETTO:+0200
TZNAME:CEST
DTSTART:20220327T010000
END:DAYLIGHT
BEGIN:STANDARD
TZOFFSETFROM:+0200
TZOFFSETTO:+0100
TZNAME:CET
DTSTART:20221030T010000
END:STANDARD
BEGIN:DAYLIGHT
TZOFFSETFROM:+0100
TZOFFSETTO:+0200
TZNAME:CEST
DTSTART:20230326T010000
END:DAYLIGHT
BEGIN:STANDARD
TZOFFSETFROM:+0200
TZOFFSETTO:+0100
TZNAME:CET
DTSTART:20231029T010000
END:STANDARD
BEGIN:DAYLIGHT
TZOFFSETFROM:+0100
TZOFFSETTO:+0200
TZNAME:CEST
DTSTART:20240331T010000
END:DAYLIGHT
BEGIN:STANDARD
TZOFFSETFROM:+0200
TZOFFSETTO:+0100
TZNAME:CET
DTSTART:20241027T010000
END:STANDARD
END:VTIMEZONE
BEGIN:VEVENT
DTSTART;TZID=Europe/Paris:20230724T083000
DTEND;TZID=Europe/Paris:20230922T233000
DTSTAMP:20260423T060913
CREATED:20230724T083337Z
LAST-MODIFIED:20230919T155323Z
UID:5373-1690187400-1695425400@luberonetsorguesentreprendre.fr
SUMMARY:#Appelàcandidature Trophées l'entreprise et son territoire LSE
DESCRIPTION:5ème édition des Trophées « L’entreprise et son territoire » organisée par Luberon et Sorgues Entreprendre pour les organisations (entreprises\, structures de l’économie sociale et solidaire…) du territoire du Luberon – Monts de Vaucluse – Pays des Sorgues \nChers adhérents\, \nSi vous êtes engagé dans la vie locale\, \nSi vous menez une politique de responsabilité sociétale\, \nSi vous coopérez avec d’autres organisations pour réduire la quantité de ressources naturelles consommées\, intensifier l’usage des produits et de leurs composants ou allonger leur durée de vie ou donner une nouvelle vie aux ressources \nAlors vous pouvez candidater aux trophées via le lien \nQuestionnaire trophées 2023 en ligne \nModalités : Dossier de candidature  \nDate limite de réception des candidatures : 22 septembre 2023 \nQuatre trophées attribués : Audace | Engagement dans la vie locale | Jeunes pousses | Coup de cœur \nUn teaser vidéo sera offert à chaque lauréat
URL:https://luberonetsorguesentreprendre.fr/event/savethedate-trophees-entreprise-et-son-territoire/
LOCATION:Luberon & Sorgues Entreprendre\, L'Isle sur la Sorgue\, 84800\, France
ATTACH;FMTTYPE=image/png:https://luberonetsorguesentreprendre.fr/wp-content/uploads/2023/07/Trophees-2023-ET.png
ORGANIZER;CN="Luberon & Sorgues Entreprendre":MAILTO:info@luberonetsorguesentreprendre.fr
END:VEVENT
BEGIN:VEVENT
DTSTART;TZID=Europe/Paris:20230926T083000
DTEND;TZID=Europe/Paris:20230926T110000
DTSTAMP:20260423T060913
CREATED:20230919T155107Z
LAST-MODIFIED:20230919T155107Z
UID:5399-1695717000-1695726000@luberonetsorguesentreprendre.fr
SUMMARY:#SaveTheDate : Groupe TPE autour du DUERP 26.09.23
DESCRIPTION:Le groupe TPE vous invite et vous informe :\nMardi 26 septembre de 8h30 à 11h | Le DUERP Comment ça marche ? |\n\nLe Document Unique d’évaluation des Risques Professionnels est une obligation souvent méconnue. Il doit être impérativement réalisé par les entreprises dès le 1er salarié. Atelier coanimé par Fabienne Duret Prévention et Santé au Travail et Lucie Deuzé GMSI84 Accueil à partir de 8h30 | Santé au Travail Durance Luberon 353 Rte du Moulin de Losque\, 84300 Cavaillon.\n\nInscription : https://doodle.com/meeting/participate/id/aM1zL5Oa\n\n\n\n\n 
URL:https://luberonetsorguesentreprendre.fr/event/savethedate-groupe-tpe-duerp-26-09-23/
LOCATION:Cavaillon\, Cavaillon\, 84300\, France
CATEGORIES:Rencontre professionnelle
ATTACH;FMTTYPE=image/jpeg:https://luberonetsorguesentreprendre.fr/wp-content/uploads/2023/09/370292533_591460416536294_4197462930222778677_n.jpg
ORGANIZER;CN="Luberon & Sorgues Entreprendre":MAILTO:info@luberonetsorguesentreprendre.fr
END:VEVENT
BEGIN:VEVENT
DTSTART;TZID=Europe/Paris:20230928T083000
DTEND;TZID=Europe/Paris:20230928T103000
DTSTAMP:20260423T060913
CREATED:20230919T154454Z
LAST-MODIFIED:20230919T155231Z
UID:5395-1695889800-1695897000@luberonetsorguesentreprendre.fr
SUMMARY:#SaveTheDate : Visite Entreprise 28.09.23
DESCRIPTION:Chers adhérents\, le Groupe Visite Entreprise vous invite à découvrir :\nLe Beau Geste Biscuiterie solidaire\nJeudi 28 septembre de 8h30 à 10h30\n299 avenue de la Cigalière\n84250 Le Thor\n(Bâtiment Chez FDS PRO)\n\nLe Beau Geste fabrique des biscuits bio\, sucrés et salés\, à base de légumineuses. C’est une entreprise inclusive et apprenante\nqui recrute et forme des personnes en transition professionnelle. Fleur Masson créatrice et dirigeante de cette biscuiterie solidaire a souhaité mettre son énergie au service d’une entreprise qui place le goût\,\nla responsabilité écologique et l’innovation sociale au cœur de ses valeurs.\n\nDétails & Inscription :\nhttps://doodle.com/meeting/participate/id/eVQMXW1d\n\n\n\n 
URL:https://luberonetsorguesentreprendre.fr/event/savethedate-visite-entreprise-28-09-23/
LOCATION:Le Thor\, 84250\, France
CATEGORIES:Rencontre professionnelle
ATTACH;FMTTYPE=image/png:https://luberonetsorguesentreprendre.fr/wp-content/uploads/2023/03/Le-Beau-Geste_Principal-avec-Baseline-Bleu.png
ORGANIZER;CN="Luberon & Sorgues Entreprendre":MAILTO:info@luberonetsorguesentreprendre.fr
END:VEVENT
END:VCALENDAR