BEGIN:VCALENDAR
VERSION:2.0
PRODID:-//Luberon &amp; Sorgues Entreprendre - ECPv6.15.20//NONSGML v1.0//EN
CALSCALE:GREGORIAN
METHOD:PUBLISH
X-WR-CALNAME:Luberon &amp; Sorgues Entreprendre
X-ORIGINAL-URL:https://luberonetsorguesentreprendre.fr
X-WR-CALDESC:Évènements pour Luberon &amp; Sorgues Entreprendre
REFRESH-INTERVAL;VALUE=DURATION:PT1H
X-Robots-Tag:noindex
X-PUBLISHED-TTL:PT1H
BEGIN:VTIMEZONE
TZID:Europe/Paris
BEGIN:DAYLIGHT
TZOFFSETFROM:+0100
TZOFFSETTO:+0200
TZNAME:CEST
DTSTART:20220327T010000
END:DAYLIGHT
BEGIN:STANDARD
TZOFFSETFROM:+0200
TZOFFSETTO:+0100
TZNAME:CET
DTSTART:20221030T010000
END:STANDARD
BEGIN:DAYLIGHT
TZOFFSETFROM:+0100
TZOFFSETTO:+0200
TZNAME:CEST
DTSTART:20230326T010000
END:DAYLIGHT
BEGIN:STANDARD
TZOFFSETFROM:+0200
TZOFFSETTO:+0100
TZNAME:CET
DTSTART:20231029T010000
END:STANDARD
BEGIN:DAYLIGHT
TZOFFSETFROM:+0100
TZOFFSETTO:+0200
TZNAME:CEST
DTSTART:20240331T010000
END:DAYLIGHT
BEGIN:STANDARD
TZOFFSETFROM:+0200
TZOFFSETTO:+0100
TZNAME:CET
DTSTART:20241027T010000
END:STANDARD
END:VTIMEZONE
BEGIN:VEVENT
DTSTART;TZID=Europe/Paris:20231010T170000
DTEND;TZID=Europe/Paris:20231010T190000
DTSTAMP:20260423T045537
CREATED:20231002T070337Z
LAST-MODIFIED:20231006T145042Z
UID:5430-1696957200-1696964400@luberonetsorguesentreprendre.fr
SUMMARY:#SaveTheDate : Atelier reporté date à définir | Groupe TPE Fresque de l'économie
DESCRIPTION:﻿
URL:https://luberonetsorguesentreprendre.fr/event/savethedate-groupe-tpe-fresque-economie-10-10-23/
LOCATION:Cavaillon\, Cavaillon\, 84300\, France
CATEGORIES:Rencontre professionnelle
ATTACH;FMTTYPE=image/jpeg:https://luberonetsorguesentreprendre.fr/wp-content/uploads/2023/10/Affiche-Session-information-TPE-La-Fresque-EFC-scaled.jpg
ORGANIZER;CN="Luberon & Sorgues Entreprendre":MAILTO:info@luberonetsorguesentreprendre.fr
END:VEVENT
BEGIN:VEVENT
DTSTART;TZID=Europe/Paris:20231012T080000
DTEND;TZID=Europe/Paris:20231012T100000
DTSTAMP:20260423T045537
CREATED:20230925T141004Z
LAST-MODIFIED:20231011T141613Z
UID:5422-1697097600-1697104800@luberonetsorguesentreprendre.fr
SUMMARY:#SaveTheDate : Matinée CEDRE Ambition 12.10.23
DESCRIPTION:Un accompagnement sur mesure\nde la Région pour vos démarches RSE\nLuberon et Sorgues Entreprendre & Carpensud\nvous invitent à une matinale d’information et d’échanges\n\nJeudi 12 octobre de 8h à 10h\nChez Florette\n150 Av. de la Petite Marine\n84800 L’Isle sur la Sorgue\nIntervention d’Hélène Bonnoit Dispositif CEDRE Région SUD  et Retours\nd’expérience d’entreprises locales\n\n\n\n Inscription https://doodle.com/meeting/organize/id/dG8DjBKe\n\n\n\n\nVotre entreprise est en développement et créatrice d’emploi ? Vous êtes convaincu de l’intérêt d’une démarche RSE et souhaitez être accompagné pour définir vos priorités et vous lancer dans des projets ambitieux ? Financé par la Région Sud PACA\, ce programme vise à accompagner et à soutenir dans la durée des entreprises régionales en développement\, créatrices d’emplois qui s’engagent dans une démarche de responsabilité́ sociétale des entreprises (RSE) ambitieuses et structurées et s’impliquent fortement dans la transition écologique. Avec CEDRE Ambition\, vous êtes accompagné dans la durée par des consultants experts de la RSE pour vous développer en répondant aux enjeux actuels de transition écologique\, sociale et de résilience. Pendant 3 ans\, vous allez structurer votre projet et vous engager concrètement sur des actions prioritaires pour votre Entreprise. \n\n\n\n\n 
URL:https://luberonetsorguesentreprendre.fr/event/savethedate-matinee-cedre-ambition-12-10-23/
LOCATION:L’Isle sur la Sorgue\, L'Isle sur la Sorgue\, 84800\, France
CATEGORIES:Rencontre professionnelle
ATTACH;FMTTYPE=image/png:https://luberonetsorguesentreprendre.fr/wp-content/uploads/2023/09/cedre-a.png
ORGANIZER;CN="Luberon & Sorgues Entreprendre":MAILTO:info@luberonetsorguesentreprendre.fr
END:VEVENT
BEGIN:VEVENT
DTSTART;TZID=Europe/Paris:20231019T140000
DTEND;TZID=Europe/Paris:20231019T200000
DTSTAMP:20260423T045537
CREATED:20230919T160112Z
LAST-MODIFIED:20231012T160051Z
UID:5404-1697724000-1697745600@luberonetsorguesentreprendre.fr
SUMMARY:#SaveTheDate : Journée thématique | Travail\, voir au-delà du handicap 19.10.23
DESCRIPTION:L’Arche-Moulin de L’Auro et Luberon & Sorgues Entreprendre vous invitent [ chefs\nd’entreprise ou collaborateurs ] à sortir des sentiers battus grâce à une journée\nd’immersion et d’échange autour du travail et du handicap ! Lors de cette après-midi\nparticipez à un atelier de travail en binôme avec des travailleurs handicapés et/ou à notre\ntable ronde d’informations. Bousculons ensemble les idées reçues\, interrogeons-nous sur\nnos propres représentations autour du handicap et de l’emploi.\n\n\n\n\n\nDossier de présentation complet & inscription  Cliquez\n\nLes ateliers immersifs | 14h-16hEn pratique\, l’ESAT Moulin de l’Auro vous propose d’intégrer 1 atelier de travail et de\nformer un binôme avec un travailleur handicapé. Découverte & échanges lors de 3\nateliers au choix :\n– Le conditionnement\n– La production d’hostie\n– L’entretien d’espaces verts\n\nLa table ronde | 17h-18h45 suivi d’un apéritif\nInstitutionnels publics/privés seront présents pour rappeler les dispositifs en vigueur\nfavorisant travail et handicap et apporter des réponses concrètes à vos questions.\nInsertion professionnelle\, ergonomie\, emploi accompagné etc… AGEFIPH | MDPH\n|ISATIS | Prévention & Santé au Travail | Cap Emploi | Pôle Emploi\nAu programme :\nRetours d’expérience des ateliers immersifs\nPlace et enjeux du travail\nTémoignage d’une entreprise partenaire\nPrésentation et rôle de chaque structure d’accompagnent\nEchanges Questions-Réponses\n\n\n\n 
URL:https://luberonetsorguesentreprendre.fr/event/savethedate-journee-thematique-travail-et-handicap-19-10-23/
LOCATION:L’Isle sur la Sorgue\, L'Isle sur la Sorgue\, 84800\, France
CATEGORIES:Rencontre professionnelle
ATTACH;FMTTYPE=image/png:https://luberonetsorguesentreprendre.fr/wp-content/uploads/2023/09/Auro-affiche-19.10.png
ORGANIZER;CN="Luberon & Sorgues Entreprendre":MAILTO:info@luberonetsorguesentreprendre.fr
END:VEVENT
BEGIN:VEVENT
DTSTART;TZID=Europe/Paris:20231024T083000
DTEND;TZID=Europe/Paris:20231024T100000
DTSTAMP:20260423T045537
CREATED:20231002T072013Z
LAST-MODIFIED:20231023T094622Z
UID:5437-1698136200-1698141600@luberonetsorguesentreprendre.fr
SUMMARY:#SaveTheDate : Visioconférence Café Croissant Transitions Collectives 24.10.23
DESCRIPTION:Café-croissant en ligne  \nde 8h30 à 10h30  \navec Carpensud \n  \n\n\n\n\n\n\n\n\n\n\n\n\n\n\nLe dispositif Transitions Collectives a pour but d’aider les employeurs et les salariés à faire face aux mutations qui peuvent impacter le modèle et l’activité de leur entreprise. Il s’adresse aux entreprises en perspective de développement et aux entreprises en mutation (évolution de l’organisation du travail\, transition technologique\, etc.). Il favorise la mobilité des salariés positionnés sur des métiers fragilisés. Témoignage des Ateliers Bio de Provence \n\nInscription visio : https://meet.google.com/jwa-wmxj-tvg
URL:https://luberonetsorguesentreprendre.fr/event/savethedate-cafe-croissant-transitions-collectives-24-10-23/
CATEGORIES:Rencontre professionnelle
ATTACH;FMTTYPE=image/png:https://luberonetsorguesentreprendre.fr/wp-content/uploads/2023/10/Copie-de-CAFE-CROISSANT-24-OCTOBRE-1.png
ORGANIZER;CN="Luberon & Sorgues Entreprendre":MAILTO:info@luberonetsorguesentreprendre.fr
END:VEVENT
END:VCALENDAR