BEGIN:VCALENDAR
VERSION:2.0
PRODID:-//Luberon &amp; Sorgues Entreprendre - ECPv6.15.20//NONSGML v1.0//EN
CALSCALE:GREGORIAN
METHOD:PUBLISH
X-WR-CALNAME:Luberon &amp; Sorgues Entreprendre
X-ORIGINAL-URL:https://luberonetsorguesentreprendre.fr
X-WR-CALDESC:Évènements pour Luberon &amp; Sorgues Entreprendre
REFRESH-INTERVAL;VALUE=DURATION:PT1H
X-Robots-Tag:noindex
X-PUBLISHED-TTL:PT1H
BEGIN:VTIMEZONE
TZID:Europe/Paris
BEGIN:DAYLIGHT
TZOFFSETFROM:+0100
TZOFFSETTO:+0200
TZNAME:CEST
DTSTART:20230326T010000
END:DAYLIGHT
BEGIN:STANDARD
TZOFFSETFROM:+0200
TZOFFSETTO:+0100
TZNAME:CET
DTSTART:20231029T010000
END:STANDARD
BEGIN:DAYLIGHT
TZOFFSETFROM:+0100
TZOFFSETTO:+0200
TZNAME:CEST
DTSTART:20240331T010000
END:DAYLIGHT
BEGIN:STANDARD
TZOFFSETFROM:+0200
TZOFFSETTO:+0100
TZNAME:CET
DTSTART:20241027T010000
END:STANDARD
BEGIN:DAYLIGHT
TZOFFSETFROM:+0100
TZOFFSETTO:+0200
TZNAME:CEST
DTSTART:20250330T010000
END:DAYLIGHT
BEGIN:STANDARD
TZOFFSETFROM:+0200
TZOFFSETTO:+0100
TZNAME:CET
DTSTART:20251026T010000
END:STANDARD
END:VTIMEZONE
BEGIN:VEVENT
DTSTART;TZID=Europe/Paris:20240312T083000
DTEND;TZID=Europe/Paris:20240312T110000
DTSTAMP:20260422T222645
CREATED:20240226T172141Z
LAST-MODIFIED:20240226T174111Z
UID:5620-1710232200-1710241200@luberonetsorguesentreprendre.fr
SUMMARY:#SaveTheDate : Groupe TPE | Informations juridiques 12.03
DESCRIPTION:Réunion Groupe TPE Mardi 12 mars  de 8h30 à 11h \nChez LMV Adresse 315 avenue Saint Baldou |  84300 Cavaillon \n\nChef d’entreprise\, et après moi… le déluge ? \nEt si demain je n’étais plus là qu’adviendrait-il de mon entreprise ? Transmissions préparées\, mandats de protection future et à titre posthume\, comment protéger mes proches et pérenniser mon activité ? Un sujet à ne surtout pas négliger ! Atelier co-animé par Anne-Gaëlle Wolff Avocat en droit des société et Sandie Maurin Notaire Conseil aux dirigeants d’entreprises. \n\nInscription 
URL:https://luberonetsorguesentreprendre.fr/event/savethedate-groupe-tpe-informations-juridiques-12-03/
LOCATION:Cavaillon\, Cavaillon\, 84300\, France
CATEGORIES:Rencontre professionnelle
ATTACH;FMTTYPE=image/png:https://luberonetsorguesentreprendre.fr/wp-content/uploads/2024/02/Info-juridiques-e1708968055207.png
ORGANIZER;CN="Luberon & Sorgues Entreprendre":MAILTO:info@luberonetsorguesentreprendre.fr
END:VEVENT
BEGIN:VEVENT
DTSTART;TZID=Europe/Paris:20240321T083000
DTEND;TZID=Europe/Paris:20240321T110000
DTSTAMP:20260422T222645
CREATED:20240226T172840Z
LAST-MODIFIED:20240226T174012Z
UID:5624-1711009800-1711018800@luberonetsorguesentreprendre.fr
SUMMARY:#SaveTheDate : Groupe TPE Atelier Intelligence émotionnelle | 21.03
DESCRIPTION:Jeudi 21 mars | Groupe TPE Intelligence Emotionnelle Atelier “L’Intelligence Émotionnelle comme pilier du Leadership” Episode 2 Ce rendez-vous est ouvert à tous même si vous n’avez pas suivi le premier atelier ! \nRDV chez Sterne Silicone Performance Rue Jean Monnet | 84300 Cavaillon à partir de 8h30 jusqu’à 11h | \nIsabelle Thiefine et Tiphaine Datin coachs expérimentées et certifiées vous donnent les clés pour travailler votre Leadership 2.0. Le saviez-vous ? L’intelligence émotionnelle est la 1ère compétence recherchée en recrutement chez nos leaders et managers. Des ateliers participatifs et complémentaires pour comprendre quelles sont les dimensions de l’Intelligence Émotionnelle qui constituent les 4 piliers du Leadership ainsi que les dimensions considérées comme des réducteurs de Leadership. \nInscription  \nUn 3ème et dernier rendez-vous est prévu : le 18 avril 2024. \n  \n  \n 
URL:https://luberonetsorguesentreprendre.fr/event/savethedate-groupe-tpe-atelier-intelligence-emotionnelle-21-03/
LOCATION:Cavaillon\, Cavaillon\, 84300\, France
CATEGORIES:Rencontre professionnelle
ATTACH;FMTTYPE=image/png:https://luberonetsorguesentreprendre.fr/wp-content/uploads/2024/02/emotions-e1708968978731.png
ORGANIZER;CN="Luberon & Sorgues Entreprendre":MAILTO:info@luberonetsorguesentreprendre.fr
END:VEVENT
BEGIN:VEVENT
DTSTART;TZID=Europe/Paris:20240328T161500
DTEND;TZID=Europe/Paris:20240328T161500
DTSTAMP:20260422T222645
CREATED:20240304T072450Z
LAST-MODIFIED:20240304T072542Z
UID:5648-1711642500-1711642500@luberonetsorguesentreprendre.fr
SUMMARY:#SaveTheDate : Visite entreprise & Afterwork chez Calibrex | 28.03
DESCRIPTION:Visite d’entreprise & Afterwork | Jeudi 28 mars 2024\n\nA partir de 16h15 et jusqu’à 18h découvrez l’entreprise Calibrex \n 291 route d’Avignon 84300 Cavaillon | spécialisée dans la fabrication de calibreuses pour fruits et légumes frais et laissez vous guider par son dirigeant Michel Durand. Puis de 18h à 19h30 poursuivons ou démarrons les échanges pour ceux qui nous rejoindront autour d’un verre.\n\n« La société CALIBREX conçoit et fabrique depuis + de 60 ans\, des calibreuses pour fruits et légumes frais et fragiles. Elle intervient dans la France entière\, à l’étranger\, auprès de petites et moyennes exploitations ou structures de conditionnement. Michel Durand et son équipe vous proposent de découvrir des calibreuses au top de la technicité ainsi que le fonctionnement et les évolutions de cette société familiale ! »\n\nInscription : https://doodle.com/meeting/organize/id/bDwL2Vna\n  \n  \n 
URL:https://luberonetsorguesentreprendre.fr/event/savethedate-visite-entreprise-afterwork-calibrex-28-03-2/
LOCATION:Cavaillon\, Cavaillon\, 84300\, France
CATEGORIES:Afterwork,Rencontre professionnelle
ATTACH;FMTTYPE=image/png:https://luberonetsorguesentreprendre.fr/wp-content/uploads/2024/03/calibrex-.png
ORGANIZER;CN="Luberon & Sorgues Entreprendre":MAILTO:info@luberonetsorguesentreprendre.fr
END:VEVENT
END:VCALENDAR