BEGIN:VCALENDAR
VERSION:2.0
PRODID:-//Luberon &amp; Sorgues Entreprendre - ECPv6.15.20//NONSGML v1.0//EN
CALSCALE:GREGORIAN
METHOD:PUBLISH
X-WR-CALNAME:Luberon &amp; Sorgues Entreprendre
X-ORIGINAL-URL:https://luberonetsorguesentreprendre.fr
X-WR-CALDESC:Évènements pour Luberon &amp; Sorgues Entreprendre
REFRESH-INTERVAL;VALUE=DURATION:PT1H
X-Robots-Tag:noindex
X-PUBLISHED-TTL:PT1H
BEGIN:VTIMEZONE
TZID:Europe/Paris
BEGIN:DAYLIGHT
TZOFFSETFROM:+0100
TZOFFSETTO:+0200
TZNAME:CEST
DTSTART:20230326T010000
END:DAYLIGHT
BEGIN:STANDARD
TZOFFSETFROM:+0200
TZOFFSETTO:+0100
TZNAME:CET
DTSTART:20231029T010000
END:STANDARD
BEGIN:DAYLIGHT
TZOFFSETFROM:+0100
TZOFFSETTO:+0200
TZNAME:CEST
DTSTART:20240331T010000
END:DAYLIGHT
BEGIN:STANDARD
TZOFFSETFROM:+0200
TZOFFSETTO:+0100
TZNAME:CET
DTSTART:20241027T010000
END:STANDARD
BEGIN:DAYLIGHT
TZOFFSETFROM:+0100
TZOFFSETTO:+0200
TZNAME:CEST
DTSTART:20250330T010000
END:DAYLIGHT
BEGIN:STANDARD
TZOFFSETFROM:+0200
TZOFFSETTO:+0100
TZNAME:CET
DTSTART:20251026T010000
END:STANDARD
END:VTIMEZONE
BEGIN:VEVENT
DTSTART;TZID=Europe/Paris:20240404T183000
DTEND;TZID=Europe/Paris:20240404T223000
DTSTAMP:20260422T211216
CREATED:20240305T144405Z
LAST-MODIFIED:20240305T144405Z
UID:5654-1712255400-1712269800@luberonetsorguesentreprendre.fr
SUMMARY:#SaveTheDate : AG 04.04
DESCRIPTION:Le Conseil d’Administration et son Président Christophe Baudrier ont le plaisir de vous convier à l’Assemblée Générale de l’Association Luberon & Sorgues Entreprendre qui se tiendra : \nJeudi 4 avril 2024 à 18h30 \nDomaine Tourbillon \n 84800 Lagnes  \nAu Programme : \nFocus Adhérents \nAssemblée Statutaire 19h \n2024 en actions ! \nCocktail à partir de 20h30 \nInscription via :                                                                                                \nhttps://www.billetweb.fr/ago-luberon-sorgues-entreprendre \nOu merci de confirmer votre présence auprès de : \nCatherine Bézard info@luberonetsorguesentreprendre.fr  | 06 84 03 51 52 \nCécile Doumas communication@luberonetsorguesentreprendre.fr | 06 03 26 41 92 \n\n\n\n\n 
URL:https://luberonetsorguesentreprendre.fr/event/savethedate-ag-04-04/
LOCATION:Domaine Tourbillon\, Lagnes\, 84800\, France
CATEGORIES:Assemblé Générale
ATTACH;FMTTYPE=image/png:https://luberonetsorguesentreprendre.fr/wp-content/uploads/2024/03/AG-4-avril-ok.png
ORGANIZER;CN="Luberon & Sorgues Entreprendre":MAILTO:info@luberonetsorguesentreprendre.fr
END:VEVENT
BEGIN:VEVENT
DTSTART;TZID=Europe/Paris:20240411T073000
DTEND;TZID=Europe/Paris:20240411T090000
DTSTAMP:20260422T211216
CREATED:20240408T081927Z
LAST-MODIFIED:20240408T081927Z
UID:5702-1712820600-1712826000@luberonetsorguesentreprendre.fr
SUMMARY:#SaveTheDate : Groupe Com': L'incarnation du dirigeant | 11.04
DESCRIPTION:Le groupe Com’ vous donne rendez-vous jeudi 11 avril de 7h30 à 9h chez KOOKABARRA 84300 Cavaillon |\n\nAu programme de cette matinale : Pourquoi et Comment incarner son entreprise ? | La communication du dirigeant : Regards croisés et témoignages de Jérémie Marcuccilli Kookabarra | Véronique Michel Huecocottestore et Tiphaine Datin. Diriger\, c’est ressentir\, transformer et incarner !\nLe simple statut de patron ou de dirigeant ne suffit pas forcément à être légitime envers ses équipes\, ses partenaires ou ses clients. Il faut incarner sa fonction et son entreprise en quelques principes : Vision | Crédibilité | Valeurs | Cohérence…\n\nInscription : https://doodle.com/meeting/participate/id/aA84J53e\n\n#luberonetsorguesentreprendre #entrepreneuriat #groupecom #vaucluse #incarnation\n \n 
URL:https://luberonetsorguesentreprendre.fr/event/savethedate-groupe-com-lincarnation-du-dirigeant-11-04/
LOCATION:Cavaillon\, Cavaillon\, 84300\, France
CATEGORIES:Rencontre professionnelle
ATTACH;FMTTYPE=image/png:https://luberonetsorguesentreprendre.fr/wp-content/uploads/2024/04/com.png
ORGANIZER;CN="Luberon & Sorgues Entreprendre":MAILTO:info@luberonetsorguesentreprendre.fr
END:VEVENT
BEGIN:VEVENT
DTSTART;TZID=Europe/Paris:20240418T083000
DTEND;TZID=Europe/Paris:20240418T110000
DTSTAMP:20260422T211216
CREATED:20240326T112648Z
LAST-MODIFIED:20240326T112816Z
UID:5667-1713429000-1713438000@luberonetsorguesentreprendre.fr
SUMMARY:#SaveTheDate : Groupe TPE Atelier Intelligence émotionnelle | 18.04
DESCRIPTION:Jeudi 18 avril | Groupe TPE Intelligence Emotionnelle Atelier “L’Intelligence Émotionnelle comme pilier du Leadership” Episode 2 Ce rendez-vous est ouvert à tous même si vous n’avez pas suivi le premier atelier ! \nRDV chez Sterne Silicone Performance Rue Jean Monnet | 84300 Cavaillon  \nAccueil de 8h30 à 9h puis atelier jusqu’à 11h | \nIsabelle Thiéfine et Tiphaine Datin coachs expérimentées et certifiées vous donnent les clés pour travailler votre Leadership 2.0. Le saviez-vous ? L’intelligence émotionnelle est la 1ère compétence recherchée en recrutement chez nos leaders et managers. \nDes ateliers participatifs et complémentaires pour comprendre quelles sont les dimensions de l’Intelligence Émotionnelle qui constituent les 4 piliers du Leadership ainsi que les dimensions considérées comme des réducteurs de Leadership. \nInscription  \n  \n  \n 
URL:https://luberonetsorguesentreprendre.fr/event/savethedate-groupe-tpe-atelier-intelligence-emotionnelle-21-03-2/
LOCATION:Cavaillon\, Cavaillon\, 84300\, France
CATEGORIES:Rencontre professionnelle
ATTACH;FMTTYPE=image/png:https://luberonetsorguesentreprendre.fr/wp-content/uploads/2024/02/emotions-e1708968978731.png
ORGANIZER;CN="Luberon & Sorgues Entreprendre":MAILTO:info@luberonetsorguesentreprendre.fr
END:VEVENT
END:VCALENDAR