BEGIN:VCALENDAR
VERSION:2.0
PRODID:-//Luberon &amp; Sorgues Entreprendre - ECPv6.15.20//NONSGML v1.0//EN
CALSCALE:GREGORIAN
METHOD:PUBLISH
X-ORIGINAL-URL:https://luberonetsorguesentreprendre.fr
X-WR-CALDESC:Évènements pour Luberon &amp; Sorgues Entreprendre
REFRESH-INTERVAL;VALUE=DURATION:PT1H
X-Robots-Tag:noindex
X-PUBLISHED-TTL:PT1H
BEGIN:VTIMEZONE
TZID:Europe/Paris
BEGIN:DAYLIGHT
TZOFFSETFROM:+0100
TZOFFSETTO:+0200
TZNAME:CEST
DTSTART:20230326T010000
END:DAYLIGHT
BEGIN:STANDARD
TZOFFSETFROM:+0200
TZOFFSETTO:+0100
TZNAME:CET
DTSTART:20231029T010000
END:STANDARD
BEGIN:DAYLIGHT
TZOFFSETFROM:+0100
TZOFFSETTO:+0200
TZNAME:CEST
DTSTART:20240331T010000
END:DAYLIGHT
BEGIN:STANDARD
TZOFFSETFROM:+0200
TZOFFSETTO:+0100
TZNAME:CET
DTSTART:20241027T010000
END:STANDARD
BEGIN:DAYLIGHT
TZOFFSETFROM:+0100
TZOFFSETTO:+0200
TZNAME:CEST
DTSTART:20250330T010000
END:DAYLIGHT
BEGIN:STANDARD
TZOFFSETFROM:+0200
TZOFFSETTO:+0100
TZNAME:CET
DTSTART:20251026T010000
END:STANDARD
END:VTIMEZONE
BEGIN:VEVENT
DTSTART;TZID=Europe/Paris:20240611T183000
DTEND;TZID=Europe/Paris:20240611T230000
DTSTAMP:20260422T182021
CREATED:20240408T081426Z
LAST-MODIFIED:20240408T082001Z
UID:5699-1718130600-1718146800@luberonetsorguesentreprendre.fr
SUMMARY:#SaveTheDate : Parlons Ca$h Intuition Mythe ou Réalité ? | 11.06
DESCRIPTION:Parlons Ca$h | Le retour !  Découvrez dès à présent la thématique et le programme de cette 8ème édition : Intuition : Mythe ou Réalité ? Ou comment muscler nos compétences intuitives pour l’entreprise ! Une date à retenir le 11 juin 2024 | Infos et réservation : https://www.billetweb.fr/parlons-cash-saison-8\n\nAdhérents LSE n’oubliez pas de demander votre code réduction à appliquer sur le Plein tarif. L’équipe Parlons Ca$h vous donne rendez-vous pour une soirée pas comme les autres ! A suivre les préparatifs terrain & les intervenants…\n\n#luberonetsorguesentreprendre #ParlonsCash #intuition #Entrepreneuriat #vaucluse\n \n 
URL:https://luberonetsorguesentreprendre.fr/event/savethedate-parlons-cah-intuition-mythe-ou-realite-11-06/
LOCATION:L’Isle sur la Sorgue\, L'Isle sur la Sorgue\, 84800\, France
CATEGORIES:Parlons C@sh
ATTACH;FMTTYPE=image/jpeg:https://luberonetsorguesentreprendre.fr/wp-content/uploads/2024/04/Save-the-Dathe-2-OK.jpg
ORGANIZER;CN="Luberon & Sorgues Entreprendre":MAILTO:info@luberonetsorguesentreprendre.fr
END:VEVENT
BEGIN:VEVENT
DTSTART;TZID=Europe/Paris:20240618T180000
DTEND;TZID=Europe/Paris:20240618T200000
DTSTAMP:20260422T182021
CREATED:20240523T190048Z
LAST-MODIFIED:20240524T043342Z
UID:5804-1718733600-1718740800@luberonetsorguesentreprendre.fr
SUMMARY:#SaveTheDate : Atelier Cuisine d'été
DESCRIPTION:Le Lab de LSE vous propose : un atelier frais et gourmand pour partager et échanger entre membres LSE !\nMardi 18 juin | 18h-19h30\nMas de Pessane Chemin du Mitan 84300 Cavaillon | Atelier animé par Vincent Warin Passion Cuisine \nAu programme :\n– Accueil des participants à partir de 17h30\n– Début de l’atelier à 18h\n– Réalisation d’une salade\n– 19h30 apéritif avec dégustation de la préparation\n– 20h fin de l’atelier\nDétails et Inscription : https://www.billetweb.fr/atelier-cuisine-juin-lab-lse\n\n\nContact Olivier : 07 62 75 95 27 ou Cécile 06 03 26 41 92   \n\n\n  \n 
URL:https://luberonetsorguesentreprendre.fr/event/savethedate-atelier-cuisine-dete/
LOCATION:Cavaillon\, Cavaillon\, 84300\, France
CATEGORIES:Afterwork,Rencontre professionnelle
ATTACH;FMTTYPE=image/png:https://luberonetsorguesentreprendre.fr/wp-content/uploads/Cuisine-ete--e1716490620824.png
ORGANIZER;CN="Luberon & Sorgues Entreprendre":MAILTO:info@luberonetsorguesentreprendre.fr
END:VEVENT
BEGIN:VEVENT
DTSTART;TZID=Europe/Paris:20240625T170000
DTEND;TZID=Europe/Paris:20240625T210000
DTSTAMP:20260422T182021
CREATED:20240620T082718Z
LAST-MODIFIED:20240620T082718Z
UID:5846-1719334800-1719349200@luberonetsorguesentreprendre.fr
SUMMARY:#SaveTheDate : Atelier Fresque du climat | 25.06.24
DESCRIPTION:Mardi 25 juin Atelier La Fresque du climat  \n\n\n\nChers adhérents\, si vous souhaitez profiter d’un atelier « Fresque du Climat » a un tarif très attractif\, n’hésitez pas à vous inscrire via le lien suivant :\nhttps://www.billetweb.fr/fresque-du-climat-25-juin\nDate : mardi 25 juin à 17h\nLieu : Domaine des Peyre | 84400 Robion\nRéservation obligatoire | Au programme :\n1 animateur | 14 participants maximum | 3h pour comprendre le défi de l’urgence climatique\n1 atelier d’appropriation scientifique | Les rapports du GIEC en 42 cartes\n1 pédagogie ludique et collaborative | Les participants identifient eux-mêmes les liens de cause à effet dans leur globalité.\n1 outil impactant : sans culpabiliser\, La Fresque engage les participants à se mobiliser en acteurs éclairés.
URL:https://luberonetsorguesentreprendre.fr/event/savethedate-atelier-fresque-du-climat-25-06-24/
CATEGORIES:Rencontre professionnelle
ATTACH;FMTTYPE=image/jpeg:https://luberonetsorguesentreprendre.fr/wp-content/uploads/444479984_748624907486510_4906311603753941328_n.jpg
ORGANIZER;CN="Luberon & Sorgues Entreprendre":MAILTO:info@luberonetsorguesentreprendre.fr
END:VEVENT
END:VCALENDAR