BEGIN:VCALENDAR
VERSION:2.0
PRODID:-//Luberon &amp; Sorgues Entreprendre - ECPv6.15.20//NONSGML v1.0//EN
CALSCALE:GREGORIAN
METHOD:PUBLISH
X-WR-CALNAME:Luberon &amp; Sorgues Entreprendre
X-ORIGINAL-URL:https://luberonetsorguesentreprendre.fr
X-WR-CALDESC:Évènements pour Luberon &amp; Sorgues Entreprendre
REFRESH-INTERVAL;VALUE=DURATION:PT1H
X-Robots-Tag:noindex
X-PUBLISHED-TTL:PT1H
BEGIN:VTIMEZONE
TZID:Europe/Paris
BEGIN:DAYLIGHT
TZOFFSETFROM:+0100
TZOFFSETTO:+0200
TZNAME:CEST
DTSTART:20230326T010000
END:DAYLIGHT
BEGIN:STANDARD
TZOFFSETFROM:+0200
TZOFFSETTO:+0100
TZNAME:CET
DTSTART:20231029T010000
END:STANDARD
BEGIN:DAYLIGHT
TZOFFSETFROM:+0100
TZOFFSETTO:+0200
TZNAME:CEST
DTSTART:20240331T010000
END:DAYLIGHT
BEGIN:STANDARD
TZOFFSETFROM:+0200
TZOFFSETTO:+0100
TZNAME:CET
DTSTART:20241027T010000
END:STANDARD
BEGIN:DAYLIGHT
TZOFFSETFROM:+0100
TZOFFSETTO:+0200
TZNAME:CEST
DTSTART:20250330T010000
END:DAYLIGHT
BEGIN:STANDARD
TZOFFSETFROM:+0200
TZOFFSETTO:+0100
TZNAME:CET
DTSTART:20251026T010000
END:STANDARD
END:VTIMEZONE
BEGIN:VEVENT
DTSTART;TZID=Europe/Paris:20240917T083000
DTEND;TZID=Europe/Paris:20240917T100000
DTSTAMP:20260422T123654
CREATED:20240731T115830Z
LAST-MODIFIED:20240808T141005Z
UID:5883-1726561800-1726567200@luberonetsorguesentreprendre.fr
SUMMARY:#SaveTheDate : Visite entreprise My Campus Réussite | 17.09
DESCRIPTION:Visite d’entreprise  | Mardi  17 septembre 2024\n\nRendez-vous le mardi 17 septembre de 8h30 à 10h30\nchez My Campus 74 Av. Jean Bouin\, 84800 L’Isle-sur-la-Sorgue\npour une rentrée studieuse !\n\nLaëtitia Béal créatrice et dirigeante de My Campus nous accueillera et nous présentera son activité spécialisée dans le Coaching scolaire\, les stages réussites\, les bilans d’orientation mais aussi le co-working et coaching d’entreprise en Vaucluse.\n\nLIEN : Inscription\n\n \n  \n 
URL:https://luberonetsorguesentreprendre.fr/event/savethedate-visite-entreprise-my-campus-reussite-17-09/
LOCATION:L’Isle sur la Sorgue\, L'Isle sur la Sorgue\, 84800\, France
CATEGORIES:Rencontre professionnelle
ATTACH;FMTTYPE=image/jpeg:https://luberonetsorguesentreprendre.fr/wp-content/uploads/Maquette-My-Campus_page-0001-2.jpg
ORGANIZER;CN="LSE":MAILTO:communication@luberonetsorguesentreprendre.fr
END:VEVENT
BEGIN:VEVENT
DTSTART;TZID=Europe/Paris:20240926T083000
DTEND;TZID=Europe/Paris:20240926T100000
DTSTAMP:20260422T123654
CREATED:20240731T122521Z
LAST-MODIFIED:20240731T123142Z
UID:5890-1727339400-1727344800@luberonetsorguesentreprendre.fr
SUMMARY:#SaveTheDate : Le Lab' Atelier découverte de Sapernelle | 26.09
DESCRIPTION:Atelier découverte du Lab’  | Jeudi  26 septembre 2024\n\nRendez-vous le jeudi 26 septembre\nchez Sapernelle en Provence\n408 la Grande Villefranche\n84210 Pernes-les-Fontaines\n\nEchanges et découverte de la Savonnerie Artisanale Sapernelle autour d’un atelier créatif  à base de produits naturels !\n\nDétails et lien d’inscription à venir\n  \n  \n 
URL:https://luberonetsorguesentreprendre.fr/event/savethedate-le-lab-atelier-decouverte-de-sapernelle-26-09/
CATEGORIES:Rencontre professionnelle
ATTACH;FMTTYPE=image/jpeg:https://luberonetsorguesentreprendre.fr/wp-content/uploads/shawnee-wilborn-tMt-m2zECRc-unsplash-scaled-e1722428695661.jpg
ORGANIZER;CN="LSE":MAILTO:communication@luberonetsorguesentreprendre.fr
END:VEVENT
END:VCALENDAR