BEGIN:VCALENDAR
VERSION:2.0
PRODID:-//Luberon &amp; Sorgues Entreprendre - ECPv6.15.20//NONSGML v1.0//EN
CALSCALE:GREGORIAN
METHOD:PUBLISH
X-WR-CALNAME:Luberon &amp; Sorgues Entreprendre
X-ORIGINAL-URL:https://luberonetsorguesentreprendre.fr
X-WR-CALDESC:Évènements pour Luberon &amp; Sorgues Entreprendre
REFRESH-INTERVAL;VALUE=DURATION:PT1H
X-Robots-Tag:noindex
X-PUBLISHED-TTL:PT1H
BEGIN:VTIMEZONE
TZID:Europe/Paris
BEGIN:DAYLIGHT
TZOFFSETFROM:+0100
TZOFFSETTO:+0200
TZNAME:CEST
DTSTART:20230326T010000
END:DAYLIGHT
BEGIN:STANDARD
TZOFFSETFROM:+0200
TZOFFSETTO:+0100
TZNAME:CET
DTSTART:20231029T010000
END:STANDARD
BEGIN:DAYLIGHT
TZOFFSETFROM:+0100
TZOFFSETTO:+0200
TZNAME:CEST
DTSTART:20240331T010000
END:DAYLIGHT
BEGIN:STANDARD
TZOFFSETFROM:+0200
TZOFFSETTO:+0100
TZNAME:CET
DTSTART:20241027T010000
END:STANDARD
BEGIN:DAYLIGHT
TZOFFSETFROM:+0100
TZOFFSETTO:+0200
TZNAME:CEST
DTSTART:20250330T010000
END:DAYLIGHT
BEGIN:STANDARD
TZOFFSETFROM:+0200
TZOFFSETTO:+0100
TZNAME:CET
DTSTART:20251026T010000
END:STANDARD
END:VTIMEZONE
BEGIN:VEVENT
DTSTART;TZID=Europe/Paris:20241001T180000
DTEND;TZID=Europe/Paris:20241001T200000
DTSTAMP:20260422T111359
CREATED:20240618T080942Z
LAST-MODIFIED:20240731T115228Z
UID:5831-1727805600-1727812800@luberonetsorguesentreprendre.fr
SUMMARY:#SaveTheDate : RH Atelier Intégration | 01.10.24
DESCRIPTION:Mardi 1er octobre Atelier Intégration | Groupe RH \n\n\nChers Adhérents\, les professionnels du Groupe RH de Luberon & Sorgues Entreprendre vous donnent rendez-vous pour l’acte 2 L’intégration en entreprise | Mardi 1er octobre à partir de 17h45 – Moulin de l’Auro – Chemin de la Muscadelle – L’Isle-sur-la-Sorgue |\n\n\nA cette occasion\, vous pourrez vous inspirer des parcours mis en place dans leurs entreprises par les intervenants et échanger sur vos pratiques.\n\n\nLien d’inscription à venir\n\n\n\n   
URL:https://luberonetsorguesentreprendre.fr/event/savethedate-rh-atelier-integratio-01-10-24-2/
CATEGORIES:Rencontre professionnelle
ATTACH;FMTTYPE=image/png:https://luberonetsorguesentreprendre.fr/wp-content/uploads/RH-1er-Octobre.png
ORGANIZER;CN="Luberon & Sorgues Entreprendre":MAILTO:info@luberonetsorguesentreprendre.fr
END:VEVENT
BEGIN:VEVENT
DTSTART;TZID=Europe/Paris:20241008T183000
DTEND;TZID=Europe/Paris:20241008T223000
DTSTAMP:20260422T111359
CREATED:20240910T183313Z
LAST-MODIFIED:20240910T183422Z
UID:5921-1728412200-1728426600@luberonetsorguesentreprendre.fr
SUMMARY:#SaveTheDate : Les 12èmes Rencontres Conviviales de LSE | 08.10.24
DESCRIPTION:Mardi  8 octobre | de 18h30 à 22h30 | Château des 3 fontaines à Pernes-les-fontaines \n\n\n\nC’est avec plaisir que nous vous convions à notre soirée réseau : les 12èmes Rencontres Conviviales de LSE |  \nLe rendez-vous immanquable des chefs d’entreprise !  \nCet événement est l’occasion\, pour vous\, d’inviter jusqu’à 3 de vos contacts professionnels privilégiés : \nClients\, fournisseurs\, prospects\, collaborateurs…. et d’enrichir le réseau de chacun. \n  \n\n\n\n\n\n  Inscription : LIEN
URL:https://luberonetsorguesentreprendre.fr/event/savethedate-les-12emes-rencontres-conviviales-de-lse-08-10-24/
CATEGORIES:Afterwork,Rencontre professionnelle
ATTACH;FMTTYPE=image/png:https://luberonetsorguesentreprendre.fr/wp-content/uploads/bandeau.png
ORGANIZER;CN="LSE":MAILTO:communication@luberonetsorguesentreprendre.fr
END:VEVENT
BEGIN:VEVENT
DTSTART;TZID=Europe/Paris:20241015T083000
DTEND;TZID=Europe/Paris:20241015T103000
DTSTAMP:20260422T111359
CREATED:20240731T121033Z
LAST-MODIFIED:20240731T122944Z
UID:5887-1728981000-1728988200@luberonetsorguesentreprendre.fr
SUMMARY:#SaveTheDate : Matinale La santé du dirigeant | 15.10.24
DESCRIPTION:Mardi 15 octobre | Le Lab’ |  Matinale La santé du dirigeant \n\n\n\nLuberon & Sorgues Entreprendre vous invite à une Matinale thématique sur la Santé du dirigeant.\nRejoignez-nous mardi 15 octobre à 8h30 chez Mayoly  \nAdresse : Beaufour Ipsen 84 Chemin de Reydet | 84800 L’Isle-sur-la-Sorgue \nServices de Santé au Travail\, Associations d’accompagnement et de soutien présenteront les dispositifs  et les aides qui existent aujourd’hui pour les dirigeants. La matinée sera également ponctuée d’échanges et de témoignages |\nPrendre en compte la santé du dirigeant c’est aussi garantir la bonne santé de l’entreprise \n\n\n\n\n\n\n  Inscription : LIEN
URL:https://luberonetsorguesentreprendre.fr/event/savethedate-matinale-la-sante-du-dirigeant-15-10-24/
LOCATION:L’Isle sur la Sorgue\, L'Isle sur la Sorgue\, 84800\, France
CATEGORIES:Rencontre professionnelle
ATTACH;FMTTYPE=image/jpeg:https://luberonetsorguesentreprendre.fr/wp-content/uploads/online-marketing-hIgeoQjS_iE-unsplash.jpg
ORGANIZER;CN="LSE":MAILTO:communication@luberonetsorguesentreprendre.fr
END:VEVENT
BEGIN:VEVENT
DTSTART;TZID=Europe/Paris:20241024T083000
DTEND;TZID=Europe/Paris:20241024T103000
DTSTAMP:20260422T111359
CREATED:20241014T085605Z
LAST-MODIFIED:20241014T171707Z
UID:5927-1729758600-1729765800@luberonetsorguesentreprendre.fr
SUMMARY:#SaveTheDate : Le Lab Atelier juridique Envie d'envoyer tout valser ?! | 24.10.24
DESCRIPTION:24.10 Le Lab de Luberon & Sorgues Entreprendre vous invite à une matinée thématique :\n Envie régulièrement de tout envoyer valser ?\nJeudi 24 octobre à 8h45 chez LMV\n315 Av. de Saint-Baldou 84300 Cavaillon\n\nRencontre animée par Gaétane Catalano Médiateure Professionnelle | Clients\, salariés\, fournisseurs\, famille… et si mes conflits prenaient source en moi ?  Pour éviter le tango des émotions et changer de musique\, régler le conflit en soi avec un médiateur\, apprendre à désamorcer les situations conflictuelles et travailler le lâcher prise…\nInscription : LIEN
URL:https://luberonetsorguesentreprendre.fr/event/savethedate-le-lab-atelier-juridique-envie-denvoyer-tout-valser-24-10-24/
LOCATION:Cavaillon\, Cavaillon\, 84300\, France
CATEGORIES:Rencontre professionnelle
ATTACH;FMTTYPE=image/png:https://luberonetsorguesentreprendre.fr/wp-content/uploads/Invitation-juridique-.png
ORGANIZER;CN="LSE":MAILTO:communication@luberonetsorguesentreprendre.fr
END:VEVENT
BEGIN:VEVENT
DTSTART;TZID=Europe/Paris:20241030T180000
DTEND;TZID=Europe/Paris:20241030T220000
DTSTAMP:20260422T111359
CREATED:20241014T181821Z
LAST-MODIFIED:20241014T181821Z
UID:5930-1730311200-1730325600@luberonetsorguesentreprendre.fr
SUMMARY:#SaveTheDate : Le Lab Soirée Coktail & Quiz d'Halloween | 30.10.24
DESCRIPTION:Que vous soyez Team Halloween ou Dia de los Muertos\, le lab’ de LSE vous invite à faire la fête !\nMercredi 30 octobre de 18h à 21h30\nSoirée Quiz & Cocktail dînatoire\nLast Mystery Escape Game                                                                  \n160 Av de Provence | 84440 Robion\n\nAvec ou sans déguisement\, venez partager un moment convivial entre adhérents !\nTarif : 36€  [ Formule Quiz de 60mn en équipe de 12 pers + Cocktail dînatoire proposé par Passion Cuisine ]\nINCRIPTION 
URL:https://luberonetsorguesentreprendre.fr/event/savethedate-le-lab-soiree-coktail-quiz-dhalloween-30-10-24/
LOCATION:Robion\, ROBION\, 84440\, France
CATEGORIES:Afterwork
ATTACH;FMTTYPE=image/jpeg:https://luberonetsorguesentreprendre.fr/wp-content/uploads/Invitation-Maquette-30-octobre-LAB-Hall_page-0001.jpg
ORGANIZER;CN="LSE":MAILTO:communication@luberonetsorguesentreprendre.fr
END:VEVENT
END:VCALENDAR