BEGIN:VCALENDAR
VERSION:2.0
PRODID:-//Luberon &amp; Sorgues Entreprendre - ECPv6.15.20//NONSGML v1.0//EN
CALSCALE:GREGORIAN
METHOD:PUBLISH
X-ORIGINAL-URL:https://luberonetsorguesentreprendre.fr
X-WR-CALDESC:Évènements pour Luberon &amp; Sorgues Entreprendre
REFRESH-INTERVAL;VALUE=DURATION:PT1H
X-Robots-Tag:noindex
X-PUBLISHED-TTL:PT1H
BEGIN:VTIMEZONE
TZID:Europe/Paris
BEGIN:DAYLIGHT
TZOFFSETFROM:+0100
TZOFFSETTO:+0200
TZNAME:CEST
DTSTART:20240331T010000
END:DAYLIGHT
BEGIN:STANDARD
TZOFFSETFROM:+0200
TZOFFSETTO:+0100
TZNAME:CET
DTSTART:20241027T010000
END:STANDARD
BEGIN:DAYLIGHT
TZOFFSETFROM:+0100
TZOFFSETTO:+0200
TZNAME:CEST
DTSTART:20250330T010000
END:DAYLIGHT
BEGIN:STANDARD
TZOFFSETFROM:+0200
TZOFFSETTO:+0100
TZNAME:CET
DTSTART:20251026T010000
END:STANDARD
BEGIN:DAYLIGHT
TZOFFSETFROM:+0100
TZOFFSETTO:+0200
TZNAME:CEST
DTSTART:20260329T010000
END:DAYLIGHT
BEGIN:STANDARD
TZOFFSETFROM:+0200
TZOFFSETTO:+0100
TZNAME:CET
DTSTART:20261025T010000
END:STANDARD
END:VTIMEZONE
BEGIN:VEVENT
DTSTART;TZID=Europe/Paris:20250401T183000
DTEND;TZID=Europe/Paris:20250401T223000
DTSTAMP:20260422T022136
CREATED:20250310T163617Z
LAST-MODIFIED:20250310T163714Z
UID:6051-1743532200-1743546600@luberonetsorguesentreprendre.fr
SUMMARY:#SaveTheDate : AGO LSE Mardi 01.04.25
DESCRIPTION:Le Conseil d’Administration et son Président Christophe Baudrier ont le plaisir de vous convier à l’Assemblée Générale de l’Association Luberon & Sorgues Entreprendre qui se tiendra :  \nMardi 1er avril 2025 à 18h30\nSalle des Fêtes Moulin Saint Pierre\n84300 Les Taillades \nInscription  \n \n 
URL:https://luberonetsorguesentreprendre.fr/event/savethedate-ago-lse-mardi-1er-avril-2025/
LOCATION:Les Taillades
CATEGORIES:Assemblé Générale
ATTACH;FMTTYPE=image/png:https://luberonetsorguesentreprendre.fr/wp-content/uploads/1er-avril.png
END:VEVENT
BEGIN:VEVENT
DTSTART;TZID=Europe/Paris:20250408T183000
DTEND;TZID=Europe/Paris:20250408T210000
DTSTAMP:20260422T022136
CREATED:20250318T131515Z
LAST-MODIFIED:20250318T131515Z
UID:6057-1744137000-1744146000@luberonetsorguesentreprendre.fr
SUMMARY:#SaveTheDate : Visite Entreprise Chineurs de Malts 08.04.25
DESCRIPTION:A vos agendas !  Le groupe Visite Entreprise vous propose de découvrir Les Chineurs de Malts – Artisans Distillateurs Mardi 8 Avril | Rendez-vous de 18h30 à 21h à la distillerie ZA Saint-Joseph\, 40 All. du Gros Vert\, 84250 Le Thor | Production de Whisky Single Malt. C’est au hasard d’une discussion en septembre 2020 que le projet de production de whisky français naît entre Loïc Puviland et Jean-Yves Pomaret\, marquant le mariage parfait entre l’expertise du marchand de spiritueux et la passion d’un œnologue. Leur vision commune vise à créer des whiskies d’une grande richesse\, reflétant les caractéristiques uniques du terroir français.\nAu programme découverte de la distillerie & dégustation\nInscription 
URL:https://luberonetsorguesentreprendre.fr/event/savethedate-visite-entreprise-chineurs-de-malts-08-04-25/
LOCATION:Le Thor\, 84250\, France
CATEGORIES:Rencontre professionnelle
ATTACH;FMTTYPE=image/jpeg:https://luberonetsorguesentreprendre.fr/wp-content/uploads/480558017_942573514758314_5006460050861759708_n.jpg
END:VEVENT
BEGIN:VEVENT
DTSTART;TZID=Europe/Paris:20250424T083000
DTEND;TZID=Europe/Paris:20250424T103000
DTSTAMP:20260422T022136
CREATED:20250408T113752Z
LAST-MODIFIED:20250408T113752Z
UID:6121-1745483400-1745490600@luberonetsorguesentreprendre.fr
SUMMARY:#SaveTheDate : Le Lab' Atelier Juridique 24.04.25
DESCRIPTION:𝗟𝗲 𝗟𝗮𝗯 𝗔𝘁𝗲𝗹𝗶𝗲𝗿 𝗷𝘂𝗿𝗶𝗱𝗶𝗾𝘂𝗲 | « Marre des impayés ? Avant d’exploser stop des solutions existent » | Atelier animé par Wolff Anne Gaëlle Wimidis\n\n\nJeudi 24 avril de 8h30 à 10h30 Chez Luberon Monts de Vaucluse Agglomération 315 avenue de Saint Baldou 84300 Cavaillon\n\n\nLa santé financière de ton entreprise se fragilise et tu galères alors que tu as rempli tes obligations et ta mission en intégralité auprès du client ?\n\n\nClauses de paiement contractuelles | acompte | arrhes | mention de facturation | relance | mise en demeure | procédure de recouvrement amiable ou judiciaire\, délais de prescription etc…\n\n\nVenez rencontrer des spécialistes qui vous aideront à anticiper\, prévenir les impayés et exposer les diverses solutions de recouvrement amiables ou forcées.\n\n\n\nInscription
URL:https://luberonetsorguesentreprendre.fr/event/savethedate-le-lab-atelier-juridique-24-04-25/
LOCATION:Cavaillon\, Cavaillon\, 84300\, France
CATEGORIES:Rencontre professionnelle
ATTACH;FMTTYPE=image/jpeg:https://luberonetsorguesentreprendre.fr/wp-content/uploads/2025/04/488659058_954847033530962_3127724045939057612_n.jpg
END:VEVENT
END:VCALENDAR