BEGIN:VCALENDAR
VERSION:2.0
PRODID:-//Luberon &amp; Sorgues Entreprendre - ECPv6.15.20//NONSGML v1.0//EN
CALSCALE:GREGORIAN
METHOD:PUBLISH
X-WR-CALNAME:Luberon &amp; Sorgues Entreprendre
X-ORIGINAL-URL:https://luberonetsorguesentreprendre.fr
X-WR-CALDESC:Évènements pour Luberon &amp; Sorgues Entreprendre
REFRESH-INTERVAL;VALUE=DURATION:PT1H
X-Robots-Tag:noindex
X-PUBLISHED-TTL:PT1H
BEGIN:VTIMEZONE
TZID:Europe/Paris
BEGIN:DAYLIGHT
TZOFFSETFROM:+0100
TZOFFSETTO:+0200
TZNAME:CEST
DTSTART:20240331T010000
END:DAYLIGHT
BEGIN:STANDARD
TZOFFSETFROM:+0200
TZOFFSETTO:+0100
TZNAME:CET
DTSTART:20241027T010000
END:STANDARD
BEGIN:DAYLIGHT
TZOFFSETFROM:+0100
TZOFFSETTO:+0200
TZNAME:CEST
DTSTART:20250330T010000
END:DAYLIGHT
BEGIN:STANDARD
TZOFFSETFROM:+0200
TZOFFSETTO:+0100
TZNAME:CET
DTSTART:20251026T010000
END:STANDARD
BEGIN:DAYLIGHT
TZOFFSETFROM:+0100
TZOFFSETTO:+0200
TZNAME:CEST
DTSTART:20260329T010000
END:DAYLIGHT
BEGIN:STANDARD
TZOFFSETFROM:+0200
TZOFFSETTO:+0100
TZNAME:CET
DTSTART:20261025T010000
END:STANDARD
END:VTIMEZONE
BEGIN:VEVENT
DTSTART;TZID=Europe/Paris:20250605T183000
DTEND;TZID=Europe/Paris:20250605T223000
DTSTAMP:20260421T234548
CREATED:20250408T114318Z
LAST-MODIFIED:20250408T114403Z
UID:6124-1749148200-1749162600@luberonetsorguesentreprendre.fr
SUMMARY:#SaveTheDate : Parlons Ca$h Saison 9  05.06.25
DESCRIPTION:A vos inscriptions : Parlons Ca$h Saison 9 | La date de notre Rencontre-Débat approche et nous avons hâte de vous retrouver pour échanger et cogiter ensemble sur notre nouvelle thématique :\n#Biomimétisme : Quand la Nature murmure à l’oreille des entreprises ! Organisation | Innovation | Adaptation… S’inspirer du vivant.Au programme : Conférence d’Emmanuel Delannoy & Conversations – Témoignages de dirigeants du territoire \nRendez-vous le 5 juin au Mas de Pessane 1702 chemin du Mitan 84300  Cavaillon | 18h30\nInscription : https://www.billetweb.fr/parlons-cash-saison-9Adhérents LSE pensez à nous demander votre code réduction avant de vous inscrire !\n\n\n\n\n\n\n \n\n\n\n 
URL:https://luberonetsorguesentreprendre.fr/event/savethedate-parlons-cah-saison-9-05-06/
LOCATION:Cavaillon\, Cavaillon\, 84300\, France
CATEGORIES:Parlons C@sh
ATTACH;FMTTYPE=image/jpeg:https://luberonetsorguesentreprendre.fr/wp-content/uploads/2025/04/Affiche-PC-25-3-a.jpg
END:VEVENT
BEGIN:VEVENT
DTSTART;TZID=Europe/Paris:20250626T174500
DTEND;TZID=Europe/Paris:20250626T200000
DTSTAMP:20260421T234548
CREATED:20250608T170219Z
LAST-MODIFIED:20250608T170219Z
UID:6229-1750959900-1750968000@luberonetsorguesentreprendre.fr
SUMMARY:#SaveTheDate : Le Lab' Atelier Cuisine d'été 26.06
DESCRIPTION:Le Lab de LSE vous propose : un atelier frais et gourmand pour partager et échanger entre membres LSE !\nJeudi 26 juin | 17h45-20h\nDestination Luberon 84300 Cavaillon | Atelier animé par Vincent Warin Passion Cuisine \nAu programme :\n– Accueil des participants à partir de 17h45\n– Début de l’atelier à 18h\n– Réalisation d’une entrée fraîche et composée Esprit Dolce Vita\n\n Brochette de Thon aux 2 sésames | Tartare de Thon | Mesclun | Tartine filet de rouget | Tapenade & Huile d’Olive à l’Aneth | Tomates cerise aux herbes de Provence.\n\n– 19h30 apéritif avec dégustation de la préparation\n– 20h fin de l’atelier\nDétails et Inscription : https://www.billetweb.fr/le-lab-atelier-cuisine-26-06\nTarif : 18€ TTC\n\n\nContact Olivier : 07 62 75 95 27 ou Cécile 06 03 26 41 92   \n\n\n  \n 
URL:https://luberonetsorguesentreprendre.fr/event/savethedate-le-lab-atelier-cuisine-dete-26-06/
LOCATION:Cavaillon\, Cavaillon\, 84300\, France
CATEGORIES:Afterwork,Rencontre professionnelle
ATTACH;FMTTYPE=image/png:https://luberonetsorguesentreprendre.fr/wp-content/uploads/2025/06/26-juin-atelier--e1749402117610.png
ORGANIZER;CN="Luberon & Sorgues Entreprendre":MAILTO:info@luberonetsorguesentreprendre.fr
END:VEVENT
END:VCALENDAR