BEGIN:VCALENDAR
VERSION:2.0
PRODID:-//Luberon &amp; Sorgues Entreprendre - ECPv6.15.20//NONSGML v1.0//EN
CALSCALE:GREGORIAN
METHOD:PUBLISH
X-WR-CALNAME:Luberon &amp; Sorgues Entreprendre
X-ORIGINAL-URL:https://luberonetsorguesentreprendre.fr
X-WR-CALDESC:Évènements pour Luberon &amp; Sorgues Entreprendre
REFRESH-INTERVAL;VALUE=DURATION:PT1H
X-Robots-Tag:noindex
X-PUBLISHED-TTL:PT1H
BEGIN:VTIMEZONE
TZID:Europe/Paris
BEGIN:DAYLIGHT
TZOFFSETFROM:+0100
TZOFFSETTO:+0200
TZNAME:CEST
DTSTART:20240331T010000
END:DAYLIGHT
BEGIN:STANDARD
TZOFFSETFROM:+0200
TZOFFSETTO:+0100
TZNAME:CET
DTSTART:20241027T010000
END:STANDARD
BEGIN:DAYLIGHT
TZOFFSETFROM:+0100
TZOFFSETTO:+0200
TZNAME:CEST
DTSTART:20250330T010000
END:DAYLIGHT
BEGIN:STANDARD
TZOFFSETFROM:+0200
TZOFFSETTO:+0100
TZNAME:CET
DTSTART:20251026T010000
END:STANDARD
BEGIN:DAYLIGHT
TZOFFSETFROM:+0100
TZOFFSETTO:+0200
TZNAME:CEST
DTSTART:20260329T010000
END:DAYLIGHT
BEGIN:STANDARD
TZOFFSETFROM:+0200
TZOFFSETTO:+0100
TZNAME:CET
DTSTART:20261025T010000
END:STANDARD
END:VTIMEZONE
BEGIN:VEVENT
DTSTART;TZID=Europe/Paris:20251014T083000
DTEND;TZID=Europe/Paris:20251014T103000
DTSTAMP:20260421T180742
CREATED:20251010T152852Z
LAST-MODIFIED:20251010T152852Z
UID:6430-1760430600-1760437800@luberonetsorguesentreprendre.fr
SUMMARY:#SaveTheDate : Matinale de la Santé Mentale & des RPS | 14.10.25
DESCRIPTION:#SaveTheDate Mardi 14 octobre 2025\n\nLSE vous propose une 𝗠𝗮𝘁𝗶𝗻𝗮𝗹𝗲 𝗮𝘂𝘁𝗼𝘂𝗿 𝗱𝗲 𝗹𝗮 𝗦𝗮𝗻𝘁𝗲́ 𝗠𝗲𝗻𝘁𝗮𝗹𝗲 & 𝗱𝗲𝘀 𝗥𝗶𝘀𝗾𝘂𝗲𝘀 𝗣𝘀𝘆𝗰𝗵𝗼𝘀𝗼𝗰𝗶𝗮𝘂𝘅 | 𝗘𝗻 𝗽𝗮𝗿𝗹𝗲𝗿 𝗲𝘁 𝗮𝗴𝗶𝗿 𝗲𝗻𝘀𝗲𝗺𝗯𝗹𝗲 | Mardi 14 octobre de 8h30 à 10h30 chez Mayoly Industrie 84 Chemin du Reydet 84800 L’Isle sur la Sorgue | Rendez-vous en présence des 𝗦𝗲𝗿𝘃𝗶𝗰𝗲𝘀 𝗱𝗲 𝘀𝗮𝗻𝘁𝗲́ 𝗮𝘂 𝘁𝗿𝗮𝘃𝗮𝗶𝗹 | 𝗖𝗮𝗶𝗿𝗲𝟴𝟰 et 𝗔𝗽𝗲𝘀𝗮𝟴𝟰𝟬𝟳\n\nInscription en ligne 
URL:https://luberonetsorguesentreprendre.fr/event/savethedate-matinale-de-la-sante-mentale-des-rps-14-10-25/
LOCATION:L’Isle sur la Sorgue\, L'Isle sur la Sorgue\, 84800\, France
CATEGORIES:Rencontre professionnelle
ATTACH;FMTTYPE=image/jpeg:https://luberonetsorguesentreprendre.fr/wp-content/uploads/2025/10/Matinale-sante-mentale-14-octobre_page-0001.jpg
ORGANIZER;CN="Luberon & Sorgues Entreprendre":MAILTO:info@luberonetsorguesentreprendre.fr
END:VEVENT
BEGIN:VEVENT
DTSTART;TZID=Europe/Paris:20251030T180000
DTEND;TZID=Europe/Paris:20251030T213000
DTSTAMP:20260421T180742
CREATED:20251010T153344Z
LAST-MODIFIED:20251010T153344Z
UID:6433-1761847200-1761859800@luberonetsorguesentreprendre.fr
SUMMARY:#SaveTheDate : Soirée Conviviale du Lab | Halloween  30.10.25
DESCRIPTION:#SaveTheDate Jeudi 30 octobre 2025\n\n\nQue vous soyez Team Halloween ou Dia de los Muertos\, le lab’ de LSE vous invite à faire la fête ! Saison 2  \nJeudi 30 octobre de 18h à 21h30 | Action Game & Cocktail dînatoire | Last adventures | ZAC\, Bel-Air\, 84300 Taillades\n\n\nAvec ou sans déguisement\, venez partager un moment convivial entre adhérents !  Inscription : https://www.billetweb.fr/soiree-conviviale-halloween\nTarif : 36€ [ Formule Action Game + Cocktail dînatoire proposé par Passion Cuisine
URL:https://luberonetsorguesentreprendre.fr/event/savethedate-soiree-conviviale-du-lab-halloween-30-10-25/
LOCATION:Les Taillades
CATEGORIES:Afterwork
ATTACH;FMTTYPE=image/jpeg:https://luberonetsorguesentreprendre.fr/wp-content/uploads/2025/10/Hall.jpg
ORGANIZER;CN="Luberon & Sorgues Entreprendre":MAILTO:info@luberonetsorguesentreprendre.fr
END:VEVENT
END:VCALENDAR