BEGIN:VCALENDAR
VERSION:2.0
PRODID:-//Luberon &amp; Sorgues Entreprendre - ECPv6.15.20//NONSGML v1.0//EN
CALSCALE:GREGORIAN
METHOD:PUBLISH
X-WR-CALNAME:Luberon &amp; Sorgues Entreprendre
X-ORIGINAL-URL:https://luberonetsorguesentreprendre.fr
X-WR-CALDESC:Évènements pour Luberon &amp; Sorgues Entreprendre
REFRESH-INTERVAL;VALUE=DURATION:PT1H
X-Robots-Tag:noindex
X-PUBLISHED-TTL:PT1H
BEGIN:VTIMEZONE
TZID:Europe/Paris
BEGIN:DAYLIGHT
TZOFFSETFROM:+0100
TZOFFSETTO:+0200
TZNAME:CEST
DTSTART:20240331T010000
END:DAYLIGHT
BEGIN:STANDARD
TZOFFSETFROM:+0200
TZOFFSETTO:+0100
TZNAME:CET
DTSTART:20241027T010000
END:STANDARD
BEGIN:DAYLIGHT
TZOFFSETFROM:+0100
TZOFFSETTO:+0200
TZNAME:CEST
DTSTART:20250330T010000
END:DAYLIGHT
BEGIN:STANDARD
TZOFFSETFROM:+0200
TZOFFSETTO:+0100
TZNAME:CET
DTSTART:20251026T010000
END:STANDARD
BEGIN:DAYLIGHT
TZOFFSETFROM:+0100
TZOFFSETTO:+0200
TZNAME:CEST
DTSTART:20260329T010000
END:DAYLIGHT
BEGIN:STANDARD
TZOFFSETFROM:+0200
TZOFFSETTO:+0100
TZNAME:CET
DTSTART:20261025T010000
END:STANDARD
END:VTIMEZONE
BEGIN:VEVENT
DTSTART;TZID=Europe/Paris:20251204T110000
DTEND;TZID=Europe/Paris:20251204T120000
DTSTAMP:20260421T151159
CREATED:20251117T125312Z
LAST-MODIFIED:20251117T125312Z
UID:6493-1764846000-1764849600@luberonetsorguesentreprendre.fr
SUMMARY:#SaveTheDate : Webinaire E-Facturation 4.12
DESCRIPTION:𝗩𝗶𝘀𝗶𝗼 𝗰𝗼𝗻𝗳𝗲́𝗿𝗲𝗻𝗰𝗲 𝗘-𝗳𝗮𝗰𝘁𝘂𝗿𝗮𝘁𝗶𝗼𝗻 |\n💻 LSE vous invite à un webinaire sur un sujet qui va impacter toutes les structures : l’obligation de la facturation électronique à partir de 2026. Jeudi 4.12 de 11h00 à 12h00 (45 minutes d’intervention avec questions/réponses) En ligne |\nInscription : https://forms.office.com/e/nh0zeGPNSK\nAu programme\n• Présentation de la réforme et de ses échéances.\n• Anticipation : Les étapes clés pour se conformer aux nouvelles procédures.\n• Explication des obligations de transmission des données de facturation (e-invoicing) et de transaction (e-reporting) à l’administration fiscale.\nIntervention : Cédric Ribeiro\, Expert-Comptable Adezio
URL:https://luberonetsorguesentreprendre.fr/event/savethedate-webinaire-e-facturation-4-12/
CATEGORIES:Rencontre professionnelle
ATTACH;FMTTYPE=image/png:https://luberonetsorguesentreprendre.fr/wp-content/uploads/2025/11/efac.png
ORGANIZER;CN="Luberon & Sorgues Entreprendre":MAILTO:info@luberonetsorguesentreprendre.fr
END:VEVENT
BEGIN:VEVENT
DTSTART;TZID=Europe/Paris:20251209T074500
DTEND;TZID=Europe/Paris:20251209T093000
DTSTAMP:20260421T151159
CREATED:20251117T124320Z
LAST-MODIFIED:20251117T124352Z
UID:6489-1765266300-1765272600@luberonetsorguesentreprendre.fr
SUMMARY:#SaveTheDate : Matinale de la Com' 9.12
DESCRIPTION: 𝗠𝗮𝘁𝗶𝗻𝗮𝗹𝗲 𝗱𝗲 𝗹𝗮 𝗖𝗼𝗺’ | 🍿🎬\n\nRendez-vous au Domaine des Peyre 1620 Route d’Avignon | 84440 Robion de 7h45-9h30. \n\nLe Groupe Com’ vous invite à décrypter un phénomène de société la démultiplication des séries sous l’angle pro : « Série Addicts & Monde du travail » 📺 Comment les séries s’inspirent-elles du monde de l’entreprise et quelle influence ont-elles sur notre vision du travail ? Au programme :\n-Les séries comme miroirs de l’entreprise\n– Les séries visionnaires et anticipatrices\n-L’évolution des archétypes professionnels\n– L’impact réel sur les vocations-\nEnfin\, comment le monde professionnel inverse les rôles en s’appropriant les codes des séries\n\nInscription : https://forms.office.com/e/5m3GfHtpET\n\n  \n\n  \n 
URL:https://luberonetsorguesentreprendre.fr/event/savethedate-matinale-de-la-com-9-12/
LOCATION:Robion\, ROBION\, 84440\, France
CATEGORIES:Rencontre professionnelle
ATTACH;FMTTYPE=image/png:https://luberonetsorguesentreprendre.fr/wp-content/uploads/2025/11/mc.png
ORGANIZER;CN="Luberon & Sorgues Entreprendre":MAILTO:info@luberonetsorguesentreprendre.fr
END:VEVENT
BEGIN:VEVENT
DTSTART;TZID=Europe/Paris:20251216T174500
DTEND;TZID=Europe/Paris:20251216T193000
DTSTAMP:20260421T151159
CREATED:20251117T123824Z
LAST-MODIFIED:20251210T160000Z
UID:6486-1765907100-1765913400@luberonetsorguesentreprendre.fr
SUMMARY:Complet | #SaveTheDate : Le Lab de Noël Atelier Convivial 16.12
DESCRIPTION:𝟭𝟲.𝟭𝟮 𝗟𝗮 𝗟𝗮𝗯 𝗱𝗲 𝗡𝗼𝗲̈𝗹 | 🍷🧀 En attendant Noël\, Le Lab’ vous propose un atelier gourmand et convivial autour du vin et du fromage Chez Maison Moga à L’Isle sur la Sorgue | Atelier de 17h45 à 19.h30\nAu programme :\n– Réalisation d’une préparation fromagère\n– Conseil accords vins et fromages pour les fêtes | Dégustation\nParticipation 27€TTC |\nInscription :  https://www.billetweb.fr/lab-convivial-de-noel-mardi-16-decembre\n\n  \n\n \n 
URL:https://luberonetsorguesentreprendre.fr/event/savethedate-le-lab-de-noel-atelier-convivial-16-12/
LOCATION:L’Isle sur la Sorgue\, L'Isle sur la Sorgue\, 84800\, France
CATEGORIES:Afterwork
ATTACH;FMTTYPE=image/png:https://luberonetsorguesentreprendre.fr/wp-content/uploads/2025/11/lab-16.png
ORGANIZER;CN="Luberon & Sorgues Entreprendre":MAILTO:info@luberonetsorguesentreprendre.fr
END:VEVENT
END:VCALENDAR